Workbook

Sheet Rekapitulácia stavby
A1: Export Komplet | BA1: 2.0 | BB1: ZAMOK | BT1: False | BU1: False | BV1: {4bee5575-4e7e-45c2-bcd7-d8950381ae97}
BS2: 0,01 | BT2: 20
BS3: 0,01 | BT3: 20
D4: REKAPITULÁCIA STAVBY | AS4: v --- nižšie sa nachádzajú doplnkové a pomocné údaje k zostavám --- v | BE4: Návod na vyplnenie | BS4: 0,001
D5: Kód: | K5: 11C | BE5: Meniť je možné iba bunky so žltým podfarbením!_x000D_ _x000D_ 1) na prvom liste Rekapitulácie stavby vyplňte v zostave_x000D_ _x000D_ a) Rekapitulácia stavby_x000D_ - údaje o Zhotoviteľovi_x000D_ (prenesú sa do ostatných zostáv aj v iných listoch)_x000D_ _x000D_ b) Rekapitulácia objektov stavby_x000D_ - potrebné Ostatné náklady_x000D_ _x000D_ 2) na vybraných listoch vyplňte v zostave_x000D_ _x000D_ a) Krycí list_x000D_ - údaje o Zhotoviteľovi, pokiaľ sa líšia od údajov o Zhotoviteľovi na Rekapitulácii stavby_x000D_ (údaje se prenesú do ostatných zostav v danom liste)_x000D_ _x000D_ b) Rekapitulácia rozpočtu_x000D_ - potrebné Ostatné náklady_x000D_ _x000D_ c) Celkové náklady za stavbu_x000D_ - ceny na položkách_x000D_ - množstvo, pokiaľ má žlté podfarbenie_x000D_ - a v prípade potreby poznámku (tá je v skrytom stĺpci) | BS5: 0,01
D6: Stavba: | K6: DOBUDOVANIE ZÁKLADNEJ TECHNICKEJ INFRAŠTRUKTÚRY V OBCI ŠARIŠSKÉ JASTRABIE | BS6: 0,01
D7: JKSO: | AK7: KS: | BS7: 0,01
D8: Miesto: | K8: ŠARIŠSKÉ JASTRABIE | AK8: Dátum: | BS8: 0,01
BS9: 0,01
D10: Objednávateľ: | AK10: IČO: | BS10: 0,01
E11: OBEC ŠARIŠSKÉ JASTRABIE | AK11: IČ DPH: | BS11: 0,01
BS12: 0,01
D13: Zhotoviteľ: | AK13: IČO: | AN13: Vyplň údaj | BS13: 0,01
E14: Vyplň údaj | AK14: IČ DPH: | AN14: Vyplň údaj | BS14: 0,01
BS15: False
D16: Projektant: | AK16: IČO: | BS16: False
AK17: IČ DPH: | BS17: True
BS18: 0,01
D19: Spracovateľ: | AK19: IČO: | BS19: 0,01
AK20: IČ DPH: | BS20: True
D22: Poznámka:
D26: Cena bez DPH | AK26: =ROUND(AG94,2) -> 0
L28: Sadzba dane | W28: Základ dane | AK28: Výška dane
D29: DPH | F29: základná | L29: 0.2 | W29: =ROUND(AZ94, 2) -> 0 | AK29: =ROUND(AV94, 2) -> 0
F30: znížená | L30: 0.2 | W30: =ROUND(BA94, 2) -> 0 | AK30: =ROUND(AW94, 2) -> 0
F31: zákl. prenesená | L31: 0.2 | W31: =ROUND(BB94, 2) -> 0 | AK31: 0
F32: zníž. prenesená | L32: 0.2 | W32: =ROUND(BC94, 2) -> 0 | AK32: 0
F33: nulová | L33: 0 | W33: =ROUND(BD94, 2) -> 0 | AK33: 0
D35: Cena s DPH | T35: v | X35: EUR | AK35: =SUM(AK26:AK33) -> 0
D49: Projektant | AH49: Spracovateľ
D60: Dátum a podpis: | V60: Pečiatka | AH60: Dátum a podpis: | AM60: Pečiatka
D64: Objednávateľ | AH64: Zhotoviteľ
D75: Dátum a podpis: | V75: Pečiatka | AH75: Dátum a podpis: | AM75: Pečiatka
C82: REKAPITULÁCIA OBJEKTOV STAVBY
C84: Kód: | L84: =K5 -> 11C
C85: Stavba: | L85: =K6 -> DOBUDOVANIE ZÁKLADNEJ TECHNICKEJ INFRAŠTRUKTÚRY V OBCI ŠARIŠSKÉ JASTRABIE
C87: Miesto: | L87: =IF(K8="","",K8) -> ŠARIŠSKÉ JASTRABIE | AI87: Dátum: | AM87: =IF(AN8= "","",AN8)
C89: Objednávateľ: | L89: =IF(E11= "","",E11) -> OBEC ŠARIŠSKÉ JASTRABIE | AI89: Projektant: | AM89: =IF(E17="","",E17) | AS89: Informatívne údaje z listov zákaziek
C90: Zhotoviteľ: | L90: =IF(E14= "Vyplň údaj","",E14) | AI90: Spracovateľ: | AM90: =IF(E20="","",E20)
C92: Kód | I92: Popis | AG92: Cena bez DPH [EUR] | AN92: Cena s DPH [EUR] | AQ92: Typ | AS92: z toho Ostat._x000D_ náklady [EUR] | AT92: DPH [EUR] | AU92: Normohodiny [h] | AV92: DPH základná [EUR] | AW92: DPH znížená [EUR] | AX92: DPH základná prenesená_x000D_ [EUR] | AY92: DPH znížená prenesená_x000D_ [EUR] | AZ92: Základňa_x000D_ DPH základná | BA92: Základňa_x000D_ DPH znížená | BB92: Základňa_x000D_ DPH zákl. prenesená | BC92: Základňa_x000D_ DPH zníž. prenesená | BD92: Základňa_x000D_ DPH nulová
...

Sheet 01 - Trasa A, Trasa B
AT2: {4cc23654-e36b-4149-b254-a397b31e4a4e}
AT3: 0
D4: KRYCÍ LIST ROZPOČTU | M4: v --- nižšie sa nachádzajú doplnkové a pomocné údaje k zostavám --- v | AT4: False
D6: Stavba:
E7: ='Rekapitulácia stavby'!K6 -> DOBUDOVANIE ZÁKLADNEJ TECHNICKEJ INFRAŠTRUKTÚRY V OBCI ŠARIŠSKÉ JASTRABIE
D8: Objekt:
E9: 1 - SO 01 - Výstavba chodníka a rekonštrukcia miestnych komunikácii
D10: Časť:
E11: 01 - Trasa A, Trasa B
D13: JKSO: | I13: KS:
D14: Miesto: | F14: ŠARIŠSKÉ JASTRABIE | I14: Dátum:
D16: Objednávateľ: | I16: IČO:
E17: OBEC ŠARIŠSKÉ JASTRABIE | I17: IČ DPH:
D19: Zhotoviteľ: | I19: IČO: | J19: ='Rekapitulácia stavby'!AN13 -> Vyplň údaj
E20: ='Rekapitulácia stavby'!E14 -> Vyplň údaj | I20: IČ DPH: | J20: ='Rekapitulácia stavby'!AN14 -> Vyplň údaj
D22: Projektant: | I22: IČO:
I23: IČ DPH:
D25: Spracovateľ: | I25: IČO: | J25: =IF('Rekapitulácia stavby'!AN19="","",'Rekapitulácia stavby'!AN19)
E26: =IF('Rekapitulácia stavby'!E20="","",'Rekapitulácia stavby'!E20) | I26: IČ DPH: | J26: =IF('Rekapitulácia stavby'!AN20="","",'Rekapitulácia stavby'!AN20)
D28: Poznámka:
D32: Cena bez DPH | J32: =ROUND(J131, 2) -> 0
F34: Základ dane | I34: Sadzba dane | J34: Výška dane
D35: DPH | E35: základná | F35: =ROUND((SUM(BE131:BE217)), 2) -> 0 | I35: 0.2 | J35: =ROUND(((SUM(BE131:BE217))*I35), 2) -> 0
E36: znížená | F36: =ROUND((SUM(BF131:BF217)), 2) -> 0 | I36: 0.2 | J36: =ROUND(((SUM(BF131:BF217))*I36), 2) -> 0
E37: zákl. prenesená | F37: =ROUND((SUM(BG131:BG217)), 2) -> 0 | I37: 0.2 | J37: =0 -> 0
E38: zníž. prenesená | F38: =ROUND((SUM(BH131:BH217)), 2) -> 0 | I38: 0.2 | J38: =0 -> 0
E39: nulová | F39: =ROUND((SUM(BI131:BI217)), 2) -> 0 | I39: 0 | J39: =0 -> 0
D41: Cena s DPH | G41: v | H41: EUR | J41: =SUM(J32:J39) -> 0
D50: Projektant | G50: Spracovateľ
D61: Dátum a podpis: | F61: Pečiatka | G61: Dátum a podpis: | J61: Pečiatka
D65: Objednávateľ | G65: Zhotoviteľ
D76: Dátum a podpis: | F76: Pečiatka | G76: Dátum a podpis: | J76: Pečiatka
C82: REKAPITULÁCIA ROZPOČTU
C84: Stavba:
E85: =E7 -> DOBUDOVANIE ZÁKLADNEJ TECHNICKEJ INFRAŠTRUKTÚRY V OBCI ŠARIŠSKÉ JASTRABIE
C86: Objekt:
E87: 1 - SO 01 - Výstavba chodníka a rekonštrukcia miestnych komunikácii
C88: Časť:
E89: =E11 -> 01 - Trasa A, Trasa B
C91: Miesto: | F91: =F14 -> ŠARIŠSKÉ JASTRABIE | I91: Dátum: | J91: =IF(J14="","",J14)
...

Sheet 02 - Chodník
AT2: {b33474a5-ecee-40f8-b0a6-6c324b3be26c}
AT3: 0
D4: KRYCÍ LIST ROZPOČTU | M4: v --- nižšie sa nachádzajú doplnkové a pomocné údaje k zostavám --- v | AT4: False
D6: Stavba:
E7: ='Rekapitulácia stavby'!K6 -> DOBUDOVANIE ZÁKLADNEJ TECHNICKEJ INFRAŠTRUKTÚRY V OBCI ŠARIŠSKÉ JASTRABIE
D8: Objekt:
E9: 1 - SO 01 - Výstavba chodníka a rekonštrukcia miestnych komunikácii
D10: Časť:
E11: 02 - Chodník
D13: JKSO: | I13: KS:
D14: Miesto: | F14: ŠARIŠSKÉ JASTRABIE | I14: Dátum:
D16: Objednávateľ: | I16: IČO:
E17: OBEC ŠARIŠSKÉ JASTRABIE | I17: IČ DPH:
D19: Zhotoviteľ: | I19: IČO: | J19: ='Rekapitulácia stavby'!AN13 -> Vyplň údaj
E20: ='Rekapitulácia stavby'!E14 -> Vyplň údaj | I20: IČ DPH: | J20: ='Rekapitulácia stavby'!AN14 -> Vyplň údaj
D22: Projektant: | I22: IČO:
I23: IČ DPH:
D25: Spracovateľ: | I25: IČO: | J25: =IF('Rekapitulácia stavby'!AN19="","",'Rekapitulácia stavby'!AN19)
E26: =IF('Rekapitulácia stavby'!E20="","",'Rekapitulácia stavby'!E20) | I26: IČ DPH: | J26: =IF('Rekapitulácia stavby'!AN20="","",'Rekapitulácia stavby'!AN20)
D28: Poznámka:
D32: Cena bez DPH | J32: =ROUND(J126, 2) -> 0
F34: Základ dane | I34: Sadzba dane | J34: Výška dane
D35: DPH | E35: základná | F35: =ROUND((SUM(BE126:BE157)), 2) -> 0 | I35: 0.2 | J35: =ROUND(((SUM(BE126:BE157))*I35), 2) -> 0
E36: znížená | F36: =ROUND((SUM(BF126:BF157)), 2) -> 0 | I36: 0.2 | J36: =ROUND(((SUM(BF126:BF157))*I36), 2) -> 0
E37: zákl. prenesená | F37: =ROUND((SUM(BG126:BG157)), 2) -> 0 | I37: 0.2 | J37: =0 -> 0
E38: zníž. prenesená | F38: =ROUND((SUM(BH126:BH157)), 2) -> 0 | I38: 0.2 | J38: =0 -> 0
E39: nulová | F39: =ROUND((SUM(BI126:BI157)), 2) -> 0 | I39: 0 | J39: =0 -> 0
D41: Cena s DPH | G41: v | H41: EUR | J41: =SUM(J32:J39) -> 0
D50: Projektant | G50: Spracovateľ
D61: Dátum a podpis: | F61: Pečiatka | G61: Dátum a podpis: | J61: Pečiatka
D65: Objednávateľ | G65: Zhotoviteľ
D76: Dátum a podpis: | F76: Pečiatka | G76: Dátum a podpis: | J76: Pečiatka
C82: REKAPITULÁCIA ROZPOČTU
C84: Stavba:
E85: =E7 -> DOBUDOVANIE ZÁKLADNEJ TECHNICKEJ INFRAŠTRUKTÚRY V OBCI ŠARIŠSKÉ JASTRABIE
C86: Objekt:
E87: 1 - SO 01 - Výstavba chodníka a rekonštrukcia miestnych komunikácii
C88: Časť:
E89: =E11 -> 02 - Chodník
C91: Miesto: | F91: =F14 -> ŠARIŠSKÉ JASTRABIE | I91: Dátum: | J91: =IF(J14="","",J14)
...

Sheet 2 - SO 02 - Osvetlenie ch...
AT2: {db0c9c92-c372-42f6-ae01-ceb737a2aa6a}
AT3: 0
D4: KRYCÍ LIST ROZPOČTU | M4: v --- nižšie sa nachádzajú doplnkové a pomocné údaje k zostavám --- v | AT4: False
D6: Stavba:
E7: ='Rekapitulácia stavby'!K6 -> DOBUDOVANIE ZÁKLADNEJ TECHNICKEJ INFRAŠTRUKTÚRY V OBCI ŠARIŠSKÉ JASTRABIE
D8: Objekt:
E9: 2 - SO 02 - Osvetlenie chodníka
D11: JKSO: | I11: KS:
D12: Miesto: | F12: ŠARIŠSKÉ JASTRABIE | I12: Dátum:
D14: Objednávateľ: | I14: IČO:
E15: OBEC ŠARIŠSKÉ JASTRABIE | I15: IČ DPH:
D17: Zhotoviteľ: | I17: IČO: | J17: ='Rekapitulácia stavby'!AN13 -> Vyplň údaj
E18: ='Rekapitulácia stavby'!E14 -> Vyplň údaj | I18: IČ DPH: | J18: ='Rekapitulácia stavby'!AN14 -> Vyplň údaj
D20: Projektant: | I20: IČO:
I21: IČ DPH:
D23: Spracovateľ: | I23: IČO:
I24: IČ DPH:
D26: Poznámka:
D30: Cena bez DPH | J30: =ROUND(J122, 2) -> 0
F32: Základ dane | I32: Sadzba dane | J32: Výška dane
D33: DPH | E33: základná | F33: =ROUND((SUM(BE122:BE205)), 2) -> 0 | I33: 0.2 | J33: =ROUND(((SUM(BE122:BE205))*I33), 2) -> 0
E34: znížená | F34: =ROUND((SUM(BF122:BF205)), 2) -> 0 | I34: 0.2 | J34: =ROUND(((SUM(BF122:BF205))*I34), 2) -> 0
E35: zákl. prenesená | F35: =ROUND((SUM(BG122:BG205)), 2) -> 0 | I35: 0.2 | J35: =0 -> 0
E36: zníž. prenesená | F36: =ROUND((SUM(BH122:BH205)), 2) -> 0 | I36: 0.2 | J36: =0 -> 0
E37: nulová | F37: =ROUND((SUM(BI122:BI205)), 2) -> 0 | I37: 0 | J37: =0 -> 0
D39: Cena s DPH | G39: v | H39: EUR | J39: =SUM(J30:J37) -> 0
D50: Projektant | G50: Spracovateľ
D61: Dátum a podpis: | F61: Pečiatka | G61: Dátum a podpis: | J61: Pečiatka
D65: Objednávateľ | G65: Zhotoviteľ
D76: Dátum a podpis: | F76: Pečiatka | G76: Dátum a podpis: | J76: Pečiatka
C82: REKAPITULÁCIA ROZPOČTU
C84: Stavba:
E85: =E7 -> DOBUDOVANIE ZÁKLADNEJ TECHNICKEJ INFRAŠTRUKTÚRY V OBCI ŠARIŠSKÉ JASTRABIE
C86: Objekt:
E87: =E9 -> 2 - SO 02 - Osvetlenie chodníka
C89: Miesto: | F89: =F12 -> ŠARIŠSKÉ JASTRABIE | I89: Dátum: | J89: =IF(J12="","",J12)
C91: Objednávateľ: | F91: =E15 -> OBEC ŠARIŠSKÉ JASTRABIE | I91: Projektant: | J91: =E21 -> 0
C92: Zhotoviteľ: | F92: =IF(E18="","",E18) -> Vyplň údaj | I92: Spracovateľ: | J92: =E24 -> 0
C94: Kód dielu - Popis | J94: Cena celkom [EUR]
C96: Náklady z rozpočtu | J96: =J122 -> 0 | AU96: -1
...
