Workbook

Sheet Rekapitulácia stavby
A1: Export Komplet | BA1: 2.0 | BB1: ZAMOK | BT1: False | BU1: False | BV1: {4bee5575-4e7e-45c2-bcd7-d8950381ae97}
BS2: 0,01 | BT2: 20
BS3: 0,01 | BT3: 20
D4: REKAPITULÁCIA STAVBY | AS4: v --- nižšie sa nachádzajú doplnkové a pomocné údaje k zostavám --- v | BE4: Návod na vyplnenie | BS4: 0,001
D5: Kód: | K5: 11C | BE5: Meniť je možné iba bunky so žltým podfarbením!_x000D_ _x000D_ 1) na prvom liste Rekapitulácie stavby vyplňte v zostave_x000D_ _x000D_ a) Rekapitulácia stavby_x000D_ - údaje o Zhotoviteľovi_x000D_ (prenesú sa do ostatných zostáv aj v iných listoch)_x000D_ _x000D_ b) Rekapitulácia objektov stavby_x000D_ - potrebné Ostatné náklady_x000D_ _x000D_ 2) na vybraných listoch vyplňte v zostave_x000D_ _x000D_ a) Krycí list_x000D_ - údaje o Zhotoviteľovi, pokiaľ sa líšia od údajov o Zhotoviteľovi na Rekapitulácii stavby_x000D_ (údaje se prenesú do ostatných zostav v danom liste)_x000D_ _x000D_ b) Rekapitulácia rozpočtu_x000D_ - potrebné Ostatné náklady_x000D_ _x000D_ c) Celkové náklady za stavbu_x000D_ - ceny na položkách_x000D_ - množstvo, pokiaľ má žlté podfarbenie_x000D_ - a v prípade potreby poznámku (tá je v skrytom stĺpci) | BS5: 0,01
D6: Stavba: | K6: DOBUDOVANIE ZÁKLADNEJ TECHNICKEJ INFRAŠTRUKTÚRY V OBCI ŠARIŠSKÉ JASTRABIE | BS6: 0,01
D7: JKSO: | AK7: KS: | BS7: 0,01
D8: Miesto: | K8: ŠARIŠSKÉ JASTRABIE | AK8: Dátum: | BS8: 0,01
BS9: 0,01
D10: Objednávateľ: | AK10: IČO: | BS10: 0,01
E11: OBEC ŠARIŠSKÉ JASTRABIE | AK11: IČ DPH: | BS11: 0,01
BS12: 0,01
D13: Zhotoviteľ: | AK13: IČO: | AN13: Vyplň údaj | BS13: 0,01
E14: Vyplň údaj | AK14: IČ DPH: | AN14: Vyplň údaj | BS14: 0,01
BS15: False
D16: Projektant: | AK16: IČO: | BS16: False
AK17: IČ DPH: | BS17: True
BS18: 0,01
D19: Spracovateľ: | AK19: IČO: | BS19: 0,01
AK20: IČ DPH: | BS20: True
D22: Poznámka:
D26: Cena bez DPH | AK26: =ROUND(AG94,2) -> 0
L28: Sadzba dane | W28: Základ dane | AK28: Výška dane
D29: DPH | F29: základná | L29: 0.2 | W29: =ROUND(AZ94, 2) -> 0 | AK29: =ROUND(AV94, 2) -> 0
F30: znížená | L30: 0.2 | W30: =ROUND(BA94, 2) -> 0 | AK30: =ROUND(AW94, 2) -> 0
F31: zákl. prenesená | L31: 0.2 | W31: =ROUND(BB94, 2) -> 0 | AK31: 0
F32: zníž. prenesená | L32: 0.2 | W32: =ROUND(BC94, 2) -> 0 | AK32: 0
F33: nulová | L33: 0 | W33: =ROUND(BD94, 2) -> 0 | AK33: 0
D35: Cena s DPH | T35: v | X35: EUR | AK35: =SUM(AK26:AK33) -> 0
D49: Projektant | AH49: Spracovateľ
D60: Dátum a podpis: | V60: Pečiatka | AH60: Dátum a podpis: | AM60: Pečiatka
D64: Objednávateľ | AH64: Zhotoviteľ
D75: Dátum a podpis: | V75: Pečiatka | AH75: Dátum a podpis: | AM75: Pečiatka
C82: REKAPITULÁCIA OBJEKTOV STAVBY
C84: Kód: | L84: =K5 -> 11C
C85: Stavba: | L85: =K6 -> DOBUDOVANIE ZÁKLADNEJ TECHNICKEJ INFRAŠTRUKTÚRY V OBCI ŠARIŠSKÉ JASTRABIE
C87: Miesto: | L87: =IF(K8="","",K8) -> ŠARIŠSKÉ JASTRABIE | AI87: Dátum: | AM87: =IF(AN8= "","",AN8)
C89: Objednávateľ: | L89: =IF(E11= "","",E11) -> OBEC ŠARIŠSKÉ JASTRABIE | AI89: Projektant: | AM89: =IF(E17="","",E17) | AS89: Informatívne údaje z listov zákaziek
C90: Zhotoviteľ: | L90: =IF(E14= "Vyplň údaj","",E14) | AI90: Spracovateľ: | AM90: =IF(E20="","",E20)
C92: Kód | I92: Popis | AG92: Cena bez DPH [EUR] | AN92: Cena s DPH [EUR] | AQ92: Typ | AS92: z toho Ostat._x000D_ náklady [EUR] | AT92: DPH [EUR] | AU92: Normohodiny [h] | AV92: DPH základná [EUR] | AW92: DPH znížená [EUR] | AX92: DPH základná prenesená_x000D_ [EUR] | AY92: DPH znížená prenesená_x000D_ [EUR] | AZ92: Základňa_x000D_ DPH základná | BA92: Základňa_x000D_ DPH znížená | BB92: Základňa_x000D_ DPH zákl. prenesená | BC92: Základňa_x000D_ DPH zníž. prenesená | BD92: Základňa_x000D_ DPH nulová
C94: Náklady z rozpočtov | AG94: =ROUND(AG95+AG98,2) -> 0 | AN94: =SUM(AG94,AT94) -> 0 | AS94: =ROUND(AS95+AS98,2) -> 0 | AT94: =ROUND(SUM(AV94:AW94),2) -> 0 | AU94: =ROUND(AU95+AU98,5) -> 0 | AV94: =ROUND(AZ94*L29,2) -> 0 | AW94: =ROUND(BA94*L30,2) -> 0 | AX94: =ROUND(BB94*L29,2) -> 0 | AY94: =ROUND(BC94*L30,2) -> 0 | AZ94: =ROUND(AZ95+AZ98,2) -> 0 | BA94: =ROUND(BA95+BA98,2) -> 0 | BB94: =ROUND(BB95+BB98,2) -> 0 | BC94: =ROUND(BC95+BC98,2) -> 0 | BD94: =ROUND(BD95+BD98,2) -> 0 | BS94: D | BT94: 0 | BU94: ###NOIMPORT### | BV94: IMPORT | BW94: {4bee5575-4e7e-45c2-bcd7-d8950381ae97} | BX94: {00000000-0000-0000-0000-000000000000}
D95: 1 | J95: SO 01 - Výstavba chodníka a rekonštrukcia miestnych komunikácii | AG95: =ROUND(SUM(AG96:AG97),2) -> 0 | AN95: =SUM(AG95,AT95) -> 0 | AQ95: STA | AS95: =ROUND(SUM(AS96:AS97),2) -> 0 | AT95: =ROUND(SUM(AV95:AW95),2) -> 0 | AU95: =ROUND(SUM(AU96:AU97),5) -> 0 | AV95: =ROUND(AZ95*L29,2) -> 0 | AW95: =ROUND(BA95*L30,2) -> 0 | AX95: =ROUND(BB95*L29,2) -> 0 | AY95: =ROUND(BC95*L30,2) -> 0 | AZ95: =ROUND(SUM(AZ96:AZ97),2) -> 0 | BA95: =ROUND(SUM(BA96:BA97),2) -> 0 | BB95: =ROUND(SUM(BB96:BB97),2) -> 0 | BC95: =ROUND(SUM(BC96:BC97),2) -> 0 | BD95: =ROUND(SUM(BD96:BD97),2) -> 0 | BS95: D | BT95: 1 | BU95: ###NOIMPORT### | BV95: IMPORT | BW95: {c9c74017-959b-42ef-b675-939aff50c746} | BX95: {4bee5575-4e7e-45c2-bcd7-d8950381ae97} | CM95: 0
A96: / | E96: 01 | K96: Trasa A, Trasa B | AG96: ='01 - Trasa A, Trasa B'!J32 -> 0 | AN96: =SUM(AG96,AT96) -> 0 | AQ96: Časť | AS96: 0 | AT96: =ROUND(SUM(AV96:AW96),2) -> 0 | AU96: ='01 - Trasa A, Trasa B'!P131 -> 0 | AV96: ='01 - Trasa A, Trasa B'!J35 -> 0 | AW96: ='01 - Trasa A, Trasa B'!J36 -> 0 | AX96: ='01 - Trasa A, Trasa B'!J37 -> 0 | AY96: ='01 - Trasa A, Trasa B'!J38 -> 0 | AZ96: ='01 - Trasa A, Trasa B'!F35 -> 0 | BA96: ='01 - Trasa A, Trasa B'!F36 -> 0 | BB96: ='01 - Trasa A, Trasa B'!F37 -> 0 | BC96: ='01 - Trasa A, Trasa B'!F38 -> 0 | BD96: ='01 - Trasa A, Trasa B'!F39 -> 0 | BT96: 2 | BV96: IMPORT | BW96: {4cc23654-e36b-4149-b254-a397b31e4a4e} | BX96: {c9c74017-959b-42ef-b675-939aff50c746}
A97: / | E97: 02 | K97: Chodník | AG97: ='02 - Chodník'!J32 -> 0 | AN97: =SUM(AG97,AT97) -> 0 | AQ97: Časť | AS97: 0 | AT97: =ROUND(SUM(AV97:AW97),2) -> 0 | AU97: ='02 - Chodník'!P126 -> 0 | AV97: ='02 - Chodník'!J35 -> 0 | AW97: ='02 - Chodník'!J36 -> 0 | AX97: ='02 - Chodník'!J37 -> 0 | AY97: ='02 - Chodník'!J38 -> 0 | AZ97: ='02 - Chodník'!F35 -> 0 | BA97: ='02 - Chodník'!F36 -> 0 | BB97: ='02 - Chodník'!F37 -> 0 | BC97: ='02 - Chodník'!F38 -> 0 | BD97: ='02 - Chodník'!F39 -> 0 | BT97: 2 | BV97: IMPORT | BW97: {b33474a5-ecee-40f8-b0a6-6c324b3be26c} | BX97: {c9c74017-959b-42ef-b675-939aff50c746}
A98: / | D98: 2 | J98: SO 02 - Osvetlenie chodníka | AG98: ='2 - SO 02 - Osvetlenie ch...'!J30 -> 0 | AN98: =SUM(AG98,AT98) -> 0 | AQ98: STA | AS98: 0 | AT98: =ROUND(SUM(AV98:AW98),2) -> 0 | AU98: ='2 - SO 02 - Osvetlenie ch...'!P122 -> 0 | AV98: ='2 - SO 02 - Osvetlenie ch...'!J33 -> 0 | AW98: ='2 - SO 02 - Osvetlenie ch...'!J34 -> 0 | AX98: ='2 - SO 02 - Osvetlenie ch...'!J35 -> 0 | AY98: ='2 - SO 02 - Osvetlenie ch...'!J36 -> 0 | AZ98: ='2 - SO 02 - Osvetlenie ch...'!F33 -> 0 | BA98: ='2 - SO 02 - Osvetlenie ch...'!F34 -> 0 | BB98: ='2 - SO 02 - Osvetlenie ch...'!F35 -> 0 | BC98: ='2 - SO 02 - Osvetlenie ch...'!F36 -> 0 | BD98: ='2 - SO 02 - Osvetlenie ch...'!F37 -> 0 | BT98: 1 | BV98: IMPORT | BW98: {db0c9c92-c372-42f6-ae01-ceb737a2aa6a} | BX98: {4bee5575-4e7e-45c2-bcd7-d8950381ae97} | CM98: 0

Sheet 01 - Trasa A, Trasa B
AT2: {4cc23654-e36b-4149-b254-a397b31e4a4e}
AT3: 0
D4: KRYCÍ LIST ROZPOČTU | M4: v --- nižšie sa nachádzajú doplnkové a pomocné údaje k zostavám --- v | AT4: False
D6: Stavba:
E7: ='Rekapitulácia stavby'!K6 -> DOBUDOVANIE ZÁKLADNEJ TECHNICKEJ INFRAŠTRUKTÚRY V OBCI ŠARIŠSKÉ JASTRABIE
D8: Objekt:
E9: 1 - SO 01 - Výstavba chodníka a rekonštrukcia miestnych komunikácii
D10: Časť:
E11: 01 - Trasa A, Trasa B
D13: JKSO: | I13: KS:
D14: Miesto: | F14: ŠARIŠSKÉ JASTRABIE | I14: Dátum:
D16: Objednávateľ: | I16: IČO:
E17: OBEC ŠARIŠSKÉ JASTRABIE | I17: IČ DPH:
D19: Zhotoviteľ: | I19: IČO: | J19: ='Rekapitulácia stavby'!AN13 -> Vyplň údaj
E20: ='Rekapitulácia stavby'!E14 -> Vyplň údaj | I20: IČ DPH: | J20: ='Rekapitulácia stavby'!AN14 -> Vyplň údaj
D22: Projektant: | I22: IČO:
I23: IČ DPH:
D25: Spracovateľ: | I25: IČO: | J25: =IF('Rekapitulácia stavby'!AN19="","",'Rekapitulácia stavby'!AN19)
E26: =IF('Rekapitulácia stavby'!E20="","",'Rekapitulácia stavby'!E20) | I26: IČ DPH: | J26: =IF('Rekapitulácia stavby'!AN20="","",'Rekapitulácia stavby'!AN20)
D28: Poznámka:
D32: Cena bez DPH | J32: =ROUND(J131, 2) -> 0
F34: Základ dane | I34: Sadzba dane | J34: Výška dane
D35: DPH | E35: základná | F35: =ROUND((SUM(BE131:BE217)), 2) -> 0 | I35: 0.2 | J35: =ROUND(((SUM(BE131:BE217))*I35), 2) -> 0
E36: znížená | F36: =ROUND((SUM(BF131:BF217)), 2) -> 0 | I36: 0.2 | J36: =ROUND(((SUM(BF131:BF217))*I36), 2) -> 0
E37: zákl. prenesená | F37: =ROUND((SUM(BG131:BG217)), 2) -> 0 | I37: 0.2 | J37: =0 -> 0
E38: zníž. prenesená | F38: =ROUND((SUM(BH131:BH217)), 2) -> 0 | I38: 0.2 | J38: =0 -> 0
E39: nulová | F39: =ROUND((SUM(BI131:BI217)), 2) -> 0 | I39: 0 | J39: =0 -> 0
D41: Cena s DPH | G41: v | H41: EUR | J41: =SUM(J32:J39) -> 0
D50: Projektant | G50: Spracovateľ
D61: Dátum a podpis: | F61: Pečiatka | G61: Dátum a podpis: | J61: Pečiatka
D65: Objednávateľ | G65: Zhotoviteľ
D76: Dátum a podpis: | F76: Pečiatka | G76: Dátum a podpis: | J76: Pečiatka
C82: REKAPITULÁCIA ROZPOČTU
C84: Stavba:
E85: =E7 -> DOBUDOVANIE ZÁKLADNEJ TECHNICKEJ INFRAŠTRUKTÚRY V OBCI ŠARIŠSKÉ JASTRABIE
C86: Objekt:
E87: 1 - SO 01 - Výstavba chodníka a rekonštrukcia miestnych komunikácii
C88: Časť:
E89: =E11 -> 01 - Trasa A, Trasa B
C91: Miesto: | F91: =F14 -> ŠARIŠSKÉ JASTRABIE | I91: Dátum: | J91: =IF(J14="","",J14)
C93: Objednávateľ: | F93: =E17 -> OBEC ŠARIŠSKÉ JASTRABIE | I93: Projektant: | J93: =E23 -> 0
C94: Zhotoviteľ: | F94: =IF(E20="","",E20) -> Vyplň údaj | I94: Spracovateľ: | J94: =E26
C96: Kód dielu - Popis | J96: Cena celkom [EUR]
C98: Náklady z rozpočtu | J98: =J131 -> 0 | AU98: -1
D99: HSV - Práce a dodávky HSV | J99: =J132 -> 0
D100: 1 - Zemné práce | J100: =J133 -> 0
D101: 2 - Zakladanie | J101: =J157 -> 0
D102: 3 - Zvislé a kompletné konštrukcie | J102: =J161 -> 0
D103: 4 - Vodorovné konštrukcie | J103: =J166 -> 0
D104: 5 - Komunikácie | J104: =J170 -> 0
D105: 8 - Rúrové vedenie | J105: =J178 -> 0
D106: 9 - Ostatné konštrukcie a práce-búranie | J106: =J183 -> 0
D107: 99 - Presun hmôt HSV | J107: =J207 -> 0
D108: PSV - Práce a dodávky PSV | J108: =J209 -> 0
D109: 767 - Konštrukcie doplnkové kovové | J109: =J210 -> 0
C116: ROZPOČET
C118: Stavba:
E119: =E7 -> DOBUDOVANIE ZÁKLADNEJ TECHNICKEJ INFRAŠTRUKTÚRY V OBCI ŠARIŠSKÉ JASTRABIE
C120: Objekt:
E121: 1 - SO 01 - Výstavba chodníka a rekonštrukcia miestnych komunikácii
C122: Časť:
E123: =E11 -> 01 - Trasa A, Trasa B
C125: Miesto: | F125: =F14 -> ŠARIŠSKÉ JASTRABIE | I125: Dátum: | J125: =IF(J14="","",J14)
C127: Objednávateľ: | F127: =E17 -> OBEC ŠARIŠSKÉ JASTRABIE | I127: Projektant: | J127: =E23 -> 0
C128: Zhotoviteľ: | F128: =IF(E20="","",E20) -> Vyplň údaj | I128: Spracovateľ: | J128: =E26
C130: PČ | D130: Typ | E130: Kód | F130: Popis | G130: MJ | H130: Množstvo | I130: J.cena [EUR] | J130: Cena celkom [EUR] | K130: Cenová sústava | N130: DPH | O130: J. Nh [h] | P130: Nh celkom [h] | Q130: J. hmotnosť [t] | R130: Hmotnosť celkom [t] | S130: J. suť [t] | T130: Suť Celkom [t]
C131: Náklady z rozpočtu | J131: =BK131 -> 0 | P131: =P132+P209 -> 0 | R131: =R132+R209 -> 1942.7245 | T131: =T132+T209 -> 210.727 | AT131: D | AU131: -1 | BK131: =BK132+BK209 -> 0
D132: D | E132: HSV | F132: Práce a dodávky HSV | J132: =BK132 -> 0 | P132: =P133+P157+P161+P166+P170+P178+P183+P207 -> 0 | R132: =R133+R157+R161+R166+R170+R178+R183+R207 -> 1942.6792 | T132: =T133+T157+T161+T166+T170+T178+T183+T207 -> 210.327 | AR132: 1 | AT132: D | AU132: 0 | AY132: ROZPOCET | BK132: =BK133+BK157+BK161+BK166+BK170+BK178+BK183+BK207 -> 0
D133: D | E133: 1 | F133: Zemné práce | J133: =BK133 -> 0 | P133: =SUM(P134:P156) -> 0 | R133: =SUM(R134:R156) -> 23.913889 | T133: =SUM(T134:T156) -> 203.46 | AR133: 1 | AT133: D | AU133: 1 | AY133: ROZPOCET | BK133: =SUM(BK134:BK156) -> 0
C134: 1 | D134: K | E134: 113106241 | F134: Rozoberanie vozovky a plochy z panelov so škárami zaliatymi asfaltovou alebo cementovou maltou, -0,40800t | G134: m2 | H134: 480 | J134: =ROUND(I134*H134,2) -> 0 | N134: znížená | P134: =O134*H134 -> 0 | Q134: 0 | R134: =Q134*H134 -> 0 | S134: 0.408 | T134: =S134*H134 -> 195.84 | AR134: 4 | AT134: K | AU134: 2 | AY134: ROZPOCET | BE134: =IF(N134="základná",J134,0) -> 0 | BF134: =IF(N134="znížená",J134,0) -> 0 | BG134: =IF(N134="zákl. prenesená",J134,0) -> 0 | BH134: =IF(N134="zníž. prenesená",J134,0) -> 0 | BI134: =IF(N134="nulová",J134,0) -> 0 | BJ134: 2 | BK134: =ROUND(I134*H134,2) -> 0 | BL134: 4 | BM134: 549989569
C135: 2 | D135: K | E135: 113152130 | F135: Frézovanie asf. podkladu alebo krytu bez prek., plochy do 500 m2, pruh š. do 0,5 m, hr. 50 mm 0,127 t | G135: m2 | H135: 60 | J135: =ROUND(I135*H135,2) -> 0 | N135: znížená | P135: =O135*H135 -> 0 | Q135: 9e-05 | R135: =Q135*H135 -> 0.0054 | S135: 0.127 | T135: =S135*H135 -> 7.62 | AR135: 4 | AT135: K | AU135: 2 | AY135: ROZPOCET | BE135: =IF(N135="základná",J135,0) -> 0 | BF135: =IF(N135="znížená",J135,0) -> 0 | BG135: =IF(N135="zákl. prenesená",J135,0) -> 0 | BH135: =IF(N135="zníž. prenesená",J135,0) -> 0 | BI135: =IF(N135="nulová",J135,0) -> 0 | BJ135: 2 | BK135: =ROUND(I135*H135,2) -> 0 | BL135: 4 | BM135: 860819094
C136: 3 | D136: K | E136: 114203102 | F136: Rozobratie dlažby z lomového kameňa alebo betónových tvarníc na sucho, so zaliatymi škárami cementovou maltou | G136: m3 | H136: 16 | J136: =ROUND(I136*H136,2) -> 0 | N136: znížená | P136: =O136*H136 -> 0 | Q136: 0 | R136: =Q136*H136 -> 0 | S136: 0 | T136: =S136*H136 -> 0 | AR136: 4 | AT136: K | AU136: 2 | AY136: ROZPOCET | BE136: =IF(N136="základná",J136,0) -> 0 | BF136: =IF(N136="znížená",J136,0) -> 0 | BG136: =IF(N136="zákl. prenesená",J136,0) -> 0 | BH136: =IF(N136="zníž. prenesená",J136,0) -> 0 | BI136: =IF(N136="nulová",J136,0) -> 0 | BJ136: 2 | BK136: =ROUND(I136*H136,2) -> 0 | BL136: 4 | BM136: 1681742758
C137: 4 | D137: K | E137: 121101112 | F137: Odstránenie ornice s premiestn. na hromady, so zložením na vzdialenosť do 100 m a do 1000 m3 | G137: m3 | H137: 106 | J137: =ROUND(I137*H137,2) -> 0 | N137: znížená | P137: =O137*H137 -> 0 | Q137: 0 | R137: =Q137*H137 -> 0 | S137: 0 | T137: =S137*H137 -> 0 | AR137: 4 | AT137: K | AU137: 2 | AY137: ROZPOCET | BE137: =IF(N137="základná",J137,0) -> 0 | BF137: =IF(N137="znížená",J137,0) -> 0 | BG137: =IF(N137="zákl. prenesená",J137,0) -> 0 | BH137: =IF(N137="zníž. prenesená",J137,0) -> 0 | BI137: =IF(N137="nulová",J137,0) -> 0 | BJ137: 2 | BK137: =ROUND(I137*H137,2) -> 0 | BL137: 4 | BM137: 2004710633
C138: 5 | D138: K | E138: 122201102 | F138: Odkopávka a prekopávka nezapažená v hornine 3, nad 100 do 1000 m3 | G138: m3 | H138: 750 | J138: =ROUND(I138*H138,2) -> 0 | N138: znížená | P138: =O138*H138 -> 0 | Q138: 0 | R138: =Q138*H138 -> 0 | S138: 0 | T138: =S138*H138 -> 0 | AR138: 4 | AT138: K | AU138: 2 | AY138: ROZPOCET | BE138: =IF(N138="základná",J138,0) -> 0 | BF138: =IF(N138="znížená",J138,0) -> 0 | BG138: =IF(N138="zákl. prenesená",J138,0) -> 0 | BH138: =IF(N138="zníž. prenesená",J138,0) -> 0 | BI138: =IF(N138="nulová",J138,0) -> 0 | BJ138: 2 | BK138: =ROUND(I138*H138,2) -> 0 | BL138: 4 | BM138: 1150634141
C139: 6 | D139: K | E139: 122201109 | F139: Odkopávky a prekopávky nezapažené. Príplatok k cenám za lepivosť horniny 3 | G139: m3 | H139: 225 | J139: =ROUND(I139*H139,2) -> 0 | N139: znížená | P139: =O139*H139 -> 0 | Q139: 0 | R139: =Q139*H139 -> 0 | S139: 0 | T139: =S139*H139 -> 0 | AR139: 4 | AT139: K | AU139: 2 | AY139: ROZPOCET | BE139: =IF(N139="základná",J139,0) -> 0 | BF139: =IF(N139="znížená",J139,0) -> 0 | BG139: =IF(N139="zákl. prenesená",J139,0) -> 0 | BH139: =IF(N139="zníž. prenesená",J139,0) -> 0 | BI139: =IF(N139="nulová",J139,0) -> 0 | BJ139: 2 | BK139: =ROUND(I139*H139,2) -> 0 | BL139: 4 | BM139: 2139746367
C140: 7 | D140: K | E140: 132201101 | F140: Výkop ryhy do šírky 600 mm v horn.3 do 100 m3 | G140: m3 | H140: 51.413 | J140: =ROUND(I140*H140,2) -> 0 | N140: znížená | P140: =O140*H140 -> 0 | Q140: 0 | R140: =Q140*H140 -> 0 | S140: 0 | T140: =S140*H140 -> 0 | AR140: 4 | AT140: K | AU140: 2 | AY140: ROZPOCET | BE140: =IF(N140="základná",J140,0) -> 0 | BF140: =IF(N140="znížená",J140,0) -> 0 | BG140: =IF(N140="zákl. prenesená",J140,0) -> 0 | BH140: =IF(N140="zníž. prenesená",J140,0) -> 0 | BI140: =IF(N140="nulová",J140,0) -> 0 | BJ140: 2 | BK140: =ROUND(I140*H140,2) -> 0 | BL140: 4 | BM140: -1074509483
C141: 8 | D141: K | E141: 132201109 | F141: Príplatok k cene za lepivosť pri hĺbení rýh šírky do 600 mm zapažených i nezapažených s urovnaním dna v hornine 3 | G141: m3 | H141: 15.424 | J141: =ROUND(I141*H141,2) -> 0 | N141: znížená | P141: =O141*H141 -> 0 | Q141: 0 | R141: =Q141*H141 -> 0 | S141: 0 | T141: =S141*H141 -> 0 | AR141: 4 | AT141: K | AU141: 2 | AY141: ROZPOCET | BE141: =IF(N141="základná",J141,0) -> 0 | BF141: =IF(N141="znížená",J141,0) -> 0 | BG141: =IF(N141="zákl. prenesená",J141,0) -> 0 | BH141: =IF(N141="zníž. prenesená",J141,0) -> 0 | BI141: =IF(N141="nulová",J141,0) -> 0 | BJ141: 2 | BK141: =ROUND(I141*H141,2) -> 0 | BL141: 4 | BM141: -323474368
C142: 9 | D142: K | E142: 132201202 | F142: Výkop ryhy šírky 600-2000mm horn.3 od 100 do 1000 m3 | G142: m3 | H142: 190.6 | J142: =ROUND(I142*H142,2) -> 0 | N142: znížená | P142: =O142*H142 -> 0 | Q142: 0 | R142: =Q142*H142 -> 0 | S142: 0 | T142: =S142*H142 -> 0 | AR142: 4 | AT142: K | AU142: 2 | AY142: ROZPOCET | BE142: =IF(N142="základná",J142,0) -> 0 | BF142: =IF(N142="znížená",J142,0) -> 0 | BG142: =IF(N142="zákl. prenesená",J142,0) -> 0 | BH142: =IF(N142="zníž. prenesená",J142,0) -> 0 | BI142: =IF(N142="nulová",J142,0) -> 0 | BJ142: 2 | BK142: =ROUND(I142*H142,2) -> 0 | BL142: 4 | BM142: -73381146
C143: 10 | D143: K | E143: 132201209 | F143: Príplatok k cenám za lepivosť pri hĺbení rýh š. nad 600 do 2 000 mm zapaž. i nezapažených, s urovnaním dna v hornine 3 | G143: m3 | H143: 57.18 | J143: =ROUND(I143*H143,2) -> 0 | N143: znížená | P143: =O143*H143 -> 0 | Q143: 0 | R143: =Q143*H143 -> 0 | S143: 0 | T143: =S143*H143 -> 0 | AR143: 4 | AT143: K | AU143: 2 | AY143: ROZPOCET | BE143: =IF(N143="základná",J143,0) -> 0 | BF143: =IF(N143="znížená",J143,0) -> 0 | BG143: =IF(N143="zákl. prenesená",J143,0) -> 0 | BH143: =IF(N143="zníž. prenesená",J143,0) -> 0 | BI143: =IF(N143="nulová",J143,0) -> 0 | BJ143: 2 | BK143: =ROUND(I143*H143,2) -> 0 | BL143: 4 | BM143: -1065463981
C144: 11 | D144: K | E144: 133201101 | F144: Výkop šachty zapaženej, hornina 3 do 100 m3 | G144: m3 | H144: 1.456 | J144: =ROUND(I144*H144,2) -> 0 | N144: znížená | P144: =O144*H144 -> 0 | Q144: 0 | R144: =Q144*H144 -> 0 | S144: 0 | T144: =S144*H144 -> 0 | AR144: 4 | AT144: K | AU144: 2 | AY144: ROZPOCET | BE144: =IF(N144="základná",J144,0) -> 0 | BF144: =IF(N144="znížená",J144,0) -> 0 | BG144: =IF(N144="zákl. prenesená",J144,0) -> 0 | BH144: =IF(N144="zníž. prenesená",J144,0) -> 0 | BI144: =IF(N144="nulová",J144,0) -> 0 | BJ144: 2 | BK144: =ROUND(I144*H144,2) -> 0 | BL144: 4 | BM144: -1584688835
C145: 12 | D145: K | E145: 133201109 | F145: Príplatok k cenám za lepivosť pri hĺbení šachiet zapažených i nezapažených v hornine 3 | G145: m3 | H145: 0.437 | J145: =ROUND(I145*H145,2) -> 0 | N145: znížená | P145: =O145*H145 -> 0 | Q145: 0 | R145: =Q145*H145 -> 0 | S145: 0 | T145: =S145*H145 -> 0 | AR145: 4 | AT145: K | AU145: 2 | AY145: ROZPOCET | BE145: =IF(N145="základná",J145,0) -> 0 | BF145: =IF(N145="znížená",J145,0) -> 0 | BG145: =IF(N145="zákl. prenesená",J145,0) -> 0 | BH145: =IF(N145="zníž. prenesená",J145,0) -> 0 | BI145: =IF(N145="nulová",J145,0) -> 0 | BJ145: 2 | BK145: =ROUND(I145*H145,2) -> 0 | BL145: 4 | BM145: -1951220611
... C156: 23 | D156: K | E156: 182301121 | F156: Rozprestretie ornice na svahu so sklonom nad 1:5, plocha do 500 m2, hr.do 100 mm | G156: m2 | H156: 210 | J156: =ROUND(I156*H156,2) -> 0 | N156: znížená | P156: =O156*H156 -> 0 | Q156: 0 | R156: =Q156*H156 -> 0 | S156: 0 | T156: =S156*H156 -> 0 | AR156: 4 | AT156: K | AU156: 2 | AY156: ROZPOCET | BE156: =IF(N156="základná",J156,0) -> 0 | BF156: =IF(N156="znížená",J156,0) -> 0 | BG156: =IF(N156="zákl. prenesená",J156,0) -> 0 | BH156: =IF(N156="zníž. prenesená",J156,0) -> 0 | BI156: =IF(N156="nulová",J156,0) -> 0 | BJ156: 2 | BK156: =ROUND(I156*H156,2) -> 0 | BL156: 4 | BM156: -681283771
D157: D | E157: 2 | F157: Zakladanie | J157: =BK157 -> 0 | P157: =SUM(P158:P160) -> 0 | R157: =SUM(R158:R160) -> 78.164201 | T157: =SUM(T158:T160) -> 0 | AR157: 1 | AT157: D | AU157: 1 | AY157: ROZPOCET | BK157: =SUM(BK158:BK160) -> 0
C158: 24 | D158: K | E158: 212572111 | F158: Lôžko pre trativod zo štrkopiesku triedeného | G158: m3 | H158: 9.12 | J158: =ROUND(I158*H158,2) -> 0 | N158: znížená | P158: =O158*H158 -> 0 | Q158: 1.9205 | R158: =Q158*H158 -> 17.51496 | S158: 0 | T158: =S158*H158 -> 0 | AR158: 4 | AT158: K | AU158: 2 | AY158: ROZPOCET | BE158: =IF(N158="základná",J158,0) -> 0 | BF158: =IF(N158="znížená",J158,0) -> 0 | BG158: =IF(N158="zákl. prenesená",J158,0) -> 0 | BH158: =IF(N158="zníž. prenesená",J158,0) -> 0 | BI158: =IF(N158="nulová",J158,0) -> 0 | BJ158: 2 | BK158: =ROUND(I158*H158,2) -> 0 | BL158: 4 | BM158: 1430709051
C159: 25 | D159: K | E159: 212752127 | F159: Trativody z flexodrenážnych rúr DN 160 | G159: m | H159: 228 | J159: =ROUND(I159*H159,2) -> 0 | N159: znížená | P159: =O159*H159 -> 0 | Q159: 0.25195 | R159: =Q159*H159 -> 57.4446 | S159: 0 | T159: =S159*H159 -> 0 | AR159: 4 | AT159: K | AU159: 2 | AY159: ROZPOCET | BE159: =IF(N159="základná",J159,0) -> 0 | BF159: =IF(N159="znížená",J159,0) -> 0 | BG159: =IF(N159="zákl. prenesená",J159,0) -> 0 | BH159: =IF(N159="zníž. prenesená",J159,0) -> 0 | BI159: =IF(N159="nulová",J159,0) -> 0 | BJ159: 2 | BK159: =ROUND(I159*H159,2) -> 0 | BL159: 4 | BM159: -561622875
C160: 26 | D160: K | E160: 275313611 | F160: Betón základových pätiek, prostý tr.C 16/20 | G160: m3 | H160: 1.456 | J160: =ROUND(I160*H160,2) -> 0 | N160: znížená | P160: =O160*H160 -> 0 | Q160: 2.20099 | R160: =Q160*H160 -> 3.2046414 | S160: 0 | T160: =S160*H160 -> 0 | AR160: 4 | AT160: K | AU160: 2 | AY160: ROZPOCET | BE160: =IF(N160="základná",J160,0) -> 0 | BF160: =IF(N160="znížená",J160,0) -> 0 | BG160: =IF(N160="zákl. prenesená",J160,0) -> 0 | BH160: =IF(N160="zníž. prenesená",J160,0) -> 0 | BI160: =IF(N160="nulová",J160,0) -> 0 | BJ160: 2 | BK160: =ROUND(I160*H160,2) -> 0 | BL160: 4 | BM160: 760450472
D161: D | E161: 3 | F161: Zvislé a kompletné konštrukcie | J161: =BK161 -> 0 | P161: =SUM(P162:P165) -> 0 | R161: =SUM(R162:R165) -> 0.1007 | T161: =SUM(T162:T165) -> 0 | AR161: 1 | AT161: D | AU161: 1 | AY161: ROZPOCET | BK161: =SUM(BK162:BK165) -> 0
C162: 27 | D162: K | E162: 338171121 | F162: Osadenie stľpika oceľového plotového do výšky nad 2,0m zaliatim cem.mal. | G162: ks | H162: 5 | J162: =ROUND(I162*H162,2) -> 0 | N162: znížená | P162: =O162*H162 -> 0 | Q162: 0.00702 | R162: =Q162*H162 -> 0.0351 | S162: 0 | T162: =S162*H162 -> 0 | AR162: 4 | AT162: K | AU162: 2 | AY162: ROZPOCET | BE162: =IF(N162="základná",J162,0) -> 0 | BF162: =IF(N162="znížená",J162,0) -> 0 | BG162: =IF(N162="zákl. prenesená",J162,0) -> 0 | BH162: =IF(N162="zníž. prenesená",J162,0) -> 0 | BI162: =IF(N162="nulová",J162,0) -> 0 | BJ162: 2 | BK162: =ROUND(I162*H162,2) -> 0 | BL162: 4 | BM162: 479906522
C163: 28 | D163: M | E163: 553510022900 | F163: Stĺpik, d 48 mm, výška 2 m, výška pletiva 1,6 m, poplastovaný s PVC čiapkou, pre pletivo v rolkách | G163: ks | H163: 5 | J163: =ROUND(I163*H163,2) -> 0 | N163: znížená | P163: =O163*H163 -> 0 | Q163: 0.0028 | R163: =Q163*H163 -> 0.014 | S163: 0 | T163: =S163*H163 -> 0 | AR163: 8 | AT163: M | AU163: 2 | AY163: ROZPOCET | BE163: =IF(N163="základná",J163,0) -> 0 | BF163: =IF(N163="znížená",J163,0) -> 0 | BG163: =IF(N163="zákl. prenesená",J163,0) -> 0 | BH163: =IF(N163="zníž. prenesená",J163,0) -> 0 | BI163: =IF(N163="nulová",J163,0) -> 0 | BJ163: 2 | BK163: =ROUND(I163*H163,2) -> 0 | BL163: 4 | BM163: -1803951799
C164: 29 | D164: K | E164: 338172111 | F164: Osadzovanie vzpery oceľovej plotovej so zaliatím cementovou maltou do vynechaných otvorov | G164: ks | H164: 6 | J164: =ROUND(I164*H164,2) -> 0 | N164: znížená | P164: =O164*H164 -> 0 | Q164: 0.0063 | R164: =Q164*H164 -> 0.0378 | S164: 0 | T164: =S164*H164 -> 0 | AR164: 4 | AT164: K | AU164: 2 | AY164: ROZPOCET | BE164: =IF(N164="základná",J164,0) -> 0 | BF164: =IF(N164="znížená",J164,0) -> 0 | BG164: =IF(N164="zákl. prenesená",J164,0) -> 0 | BH164: =IF(N164="zníž. prenesená",J164,0) -> 0 | BI164: =IF(N164="nulová",J164,0) -> 0 | BJ164: 2 | BK164: =ROUND(I164*H164,2) -> 0 | BL164: 4 | BM164: 413487561
C165: 30 | D165: M | E165: 553510023200 | F165: Vzpera, d 38 mm, výška 2 m, výška pletiva 1,6 m, poplastovaná, pre pletivo v rolkách | G165: ks | H165: 6 | J165: =ROUND(I165*H165,2) -> 0 | N165: znížená | P165: =O165*H165 -> 0 | Q165: 0.0023 | R165: =Q165*H165 -> 0.0138 | S165: 0 | T165: =S165*H165 -> 0 | AR165: 8 | AT165: M | AU165: 2 | AY165: ROZPOCET | BE165: =IF(N165="základná",J165,0) -> 0 | BF165: =IF(N165="znížená",J165,0) -> 0 | BG165: =IF(N165="zákl. prenesená",J165,0) -> 0 | BH165: =IF(N165="zníž. prenesená",J165,0) -> 0 | BI165: =IF(N165="nulová",J165,0) -> 0 | BJ165: 2 | BK165: =ROUND(I165*H165,2) -> 0 | BL165: 4 | BM165: 1356737534
D166: D | E166: 4 | F166: Vodorovné konštrukcie | J166: =BK166 -> 0 | P166: =SUM(P167:P169) -> 0 | R166: =SUM(R167:R169) -> 245.29577 | T166: =SUM(T167:T169) -> 0 | AR166: 1 | AT166: D | AU166: 1 | AY166: ROZPOCET | BK166: =SUM(BK167:BK169) -> 0
C167: 31 | D167: K | E167: 451312211 | F167: Podklad pod dlažbu z betónu prostého tr. C 8/10 hr. nad 100 do 150 mm | G167: m2 | H167: 237.6 | J167: =ROUND(I167*H167,2) -> 0 | N167: znížená | P167: =O167*H167 -> 0 | Q167: 0.31894 | R167: =Q167*H167 -> 75.780144 | S167: 0 | T167: =S167*H167 -> 0 | AR167: 4 | AT167: K | AU167: 2 | AY167: ROZPOCET | BE167: =IF(N167="základná",J167,0) -> 0 | BF167: =IF(N167="znížená",J167,0) -> 0 | BG167: =IF(N167="zákl. prenesená",J167,0) -> 0 | BH167: =IF(N167="zníž. prenesená",J167,0) -> 0 | BI167: =IF(N167="nulová",J167,0) -> 0 | BJ167: 2 | BK167: =ROUND(I167*H167,2) -> 0 | BL167: 4 | BM167: 375287717
C168: 32 | D168: K | E168: 451573111 | F168: Lôžko pod potrubie, stoky a drobné objekty, v otvorenom výkope z piesku a štrkopiesku do 63 mm | G168: m3 | H168: 0.72 | J168: =ROUND(I168*H168,2) -> 0 | N168: znížená | P168: =O168*H168 -> 0 | Q168: 1.89077 | R168: =Q168*H168 -> 1.3613544 | S168: 0 | T168: =S168*H168 -> 0 | AR168: 4 | AT168: K | AU168: 2 | AY168: ROZPOCET | BE168: =IF(N168="základná",J168,0) -> 0 | BF168: =IF(N168="znížená",J168,0) -> 0 | BG168: =IF(N168="zákl. prenesená",J168,0) -> 0 | BH168: =IF(N168="zníž. prenesená",J168,0) -> 0 | BI168: =IF(N168="nulová",J168,0) -> 0 | BJ168: 2 | BK168: =ROUND(I168*H168,2) -> 0 | BL168: 4 | BM168: -1373602149
C169: 33 | D169: K | E169: 465513127 | F169: Dlažba z lomového kameňa, na cementovú maltu, s vyškárovaním cementovou maltou, hr. kameňa 200 mm | G169: m2 | H169: 237.6 | J169: =ROUND(I169*H169,2) -> 0 | N169: znížená | P169: =O169*H169 -> 0 | Q169: 0.70772 | R169: =Q169*H169 -> 168.15427 | S169: 0 | T169: =S169*H169 -> 0 | AR169: 4 | AT169: K | AU169: 2 | AY169: ROZPOCET | BE169: =IF(N169="základná",J169,0) -> 0 | BF169: =IF(N169="znížená",J169,0) -> 0 | BG169: =IF(N169="zákl. prenesená",J169,0) -> 0 | BH169: =IF(N169="zníž. prenesená",J169,0) -> 0 | BI169: =IF(N169="nulová",J169,0) -> 0 | BJ169: 2 | BK169: =ROUND(I169*H169,2) -> 0 | BL169: 4 | BM169: 1704541972
D170: D | E170: 5 | F170: Komunikácie | J170: =BK170 -> 0 | P170: =SUM(P171:P177) -> 0 | R170: =SUM(R171:R177) -> 1400.3971 | T170: =SUM(T171:T177) -> 0 | AR170: 1 | AT170: D | AU170: 1 | AY170: ROZPOCET | BK170: =SUM(BK171:BK177) -> 0
C171: 34 | D171: K | E171: 564861111 | F171: Podklad zo štrkodrviny s rozprestretím a zhutnením, po zhutnení hr. 200 mm | G171: m2 | H171: 1287 | J171: =ROUND(I171*H171,2) -> 0 | N171: znížená | P171: =O171*H171 -> 0 | Q171: 0.3708 | R171: =Q171*H171 -> 477.2196 | S171: 0 | T171: =S171*H171 -> 0 | AR171: 4 | AT171: K | AU171: 2 | AY171: ROZPOCET | BE171: =IF(N171="základná",J171,0) -> 0 | BF171: =IF(N171="znížená",J171,0) -> 0 | BG171: =IF(N171="zákl. prenesená",J171,0) -> 0 | BH171: =IF(N171="zníž. prenesená",J171,0) -> 0 | BI171: =IF(N171="nulová",J171,0) -> 0 | BJ171: 2 | BK171: =ROUND(I171*H171,2) -> 0 | BL171: 4 | BM171: 1269530429
C172: 35 | D172: K | E172: 567132113 | F172: Podklad z kameniva stmeleného cementom s rozprestretím a zhutnením, CBGM C 8/10 (C 6/8), po zhutnení hr. 180 mm | G172: m2 | H172: 1170 | J172: =ROUND(I172*H172,2) -> 0 | N172: znížená | P172: =O172*H172 -> 0 | Q172: 0.43097 | R172: =Q172*H172 -> 504.2349 | S172: 0 | T172: =S172*H172 -> 0 | AR172: 4 | AT172: K | AU172: 2 | AY172: ROZPOCET | BE172: =IF(N172="základná",J172,0) -> 0 | BF172: =IF(N172="znížená",J172,0) -> 0 | BG172: =IF(N172="zákl. prenesená",J172,0) -> 0 | BH172: =IF(N172="zníž. prenesená",J172,0) -> 0 | BI172: =IF(N172="nulová",J172,0) -> 0 | BJ172: 2 | BK172: =ROUND(I172*H172,2) -> 0 | BL172: 4 | BM172: -947005130
C173: 36 | D173: K | E173: 569831111 | F173: Spevnenie krajníc alebo komun. pre peších s rozpr. a zhutnením, štrkodrvinou hr. 100 mm | G173: m2 | H173: 215 | J173: =ROUND(I173*H173,2) -> 0 | N173: znížená | P173: =O173*H173 -> 0 | Q173: 0.18776 | R173: =Q173*H173 -> 40.3684 | S173: 0 | T173: =S173*H173 -> 0 | AR173: 4 | AT173: K | AU173: 2 | AY173: ROZPOCET | BE173: =IF(N173="základná",J173,0) -> 0 | BF173: =IF(N173="znížená",J173,0) -> 0 | BG173: =IF(N173="zákl. prenesená",J173,0) -> 0 | BH173: =IF(N173="zníž. prenesená",J173,0) -> 0 | BI173: =IF(N173="nulová",J173,0) -> 0 | BJ173: 2 | BK173: =ROUND(I173*H173,2) -> 0 | BL173: 4 | BM173: 875319630
C174: 37 | D174: K | E174: 573111120 | F174: Postrek asfaltový infiltračný s posypom kamenivom z asfaltu cestného v množstve 0,80 kg/m2 | G174: m2 | H174: 1170 | J174: =ROUND(I174*H174,2) -> 0 | N174: znížená | P174: =O174*H174 -> 0 | Q174: 0.00854 | R174: =Q174*H174 -> 9.9918 | S174: 0 | T174: =S174*H174 -> 0 | AR174: 4 | AT174: K | AU174: 2 | AY174: ROZPOCET | BE174: =IF(N174="základná",J174,0) -> 0 | BF174: =IF(N174="znížená",J174,0) -> 0 | BG174: =IF(N174="zákl. prenesená",J174,0) -> 0 | BH174: =IF(N174="zníž. prenesená",J174,0) -> 0 | BI174: =IF(N174="nulová",J174,0) -> 0 | BJ174: 2 | BK174: =ROUND(I174*H174,2) -> 0 | BL174: 4 | BM174: 117036174
...

Sheet 02 - Chodník
AT2: {b33474a5-ecee-40f8-b0a6-6c324b3be26c}
AT3: 0
D4: KRYCÍ LIST ROZPOČTU | M4: v --- nižšie sa nachádzajú doplnkové a pomocné údaje k zostavám --- v | AT4: False
D6: Stavba:
E7: ='Rekapitulácia stavby'!K6 -> DOBUDOVANIE ZÁKLADNEJ TECHNICKEJ INFRAŠTRUKTÚRY V OBCI ŠARIŠSKÉ JASTRABIE
D8: Objekt:
E9: 1 - SO 01 - Výstavba chodníka a rekonštrukcia miestnych komunikácii
D10: Časť:
E11: 02 - Chodník
D13: JKSO: | I13: KS:
D14: Miesto: | F14: ŠARIŠSKÉ JASTRABIE | I14: Dátum:
D16: Objednávateľ: | I16: IČO:
E17: OBEC ŠARIŠSKÉ JASTRABIE | I17: IČ DPH:
D19: Zhotoviteľ: | I19: IČO: | J19: ='Rekapitulácia stavby'!AN13 -> Vyplň údaj
E20: ='Rekapitulácia stavby'!E14 -> Vyplň údaj | I20: IČ DPH: | J20: ='Rekapitulácia stavby'!AN14 -> Vyplň údaj
D22: Projektant: | I22: IČO:
I23: IČ DPH:
D25: Spracovateľ: | I25: IČO: | J25: =IF('Rekapitulácia stavby'!AN19="","",'Rekapitulácia stavby'!AN19)
E26: =IF('Rekapitulácia stavby'!E20="","",'Rekapitulácia stavby'!E20) | I26: IČ DPH: | J26: =IF('Rekapitulácia stavby'!AN20="","",'Rekapitulácia stavby'!AN20)
D28: Poznámka:
D32: Cena bez DPH | J32: =ROUND(J126, 2) -> 0
F34: Základ dane | I34: Sadzba dane | J34: Výška dane
D35: DPH | E35: základná | F35: =ROUND((SUM(BE126:BE157)), 2) -> 0 | I35: 0.2 | J35: =ROUND(((SUM(BE126:BE157))*I35), 2) -> 0
E36: znížená | F36: =ROUND((SUM(BF126:BF157)), 2) -> 0 | I36: 0.2 | J36: =ROUND(((SUM(BF126:BF157))*I36), 2) -> 0
E37: zákl. prenesená | F37: =ROUND((SUM(BG126:BG157)), 2) -> 0 | I37: 0.2 | J37: =0 -> 0
E38: zníž. prenesená | F38: =ROUND((SUM(BH126:BH157)), 2) -> 0 | I38: 0.2 | J38: =0 -> 0
E39: nulová | F39: =ROUND((SUM(BI126:BI157)), 2) -> 0 | I39: 0 | J39: =0 -> 0
D41: Cena s DPH | G41: v | H41: EUR | J41: =SUM(J32:J39) -> 0
D50: Projektant | G50: Spracovateľ
D61: Dátum a podpis: | F61: Pečiatka | G61: Dátum a podpis: | J61: Pečiatka
D65: Objednávateľ | G65: Zhotoviteľ
D76: Dátum a podpis: | F76: Pečiatka | G76: Dátum a podpis: | J76: Pečiatka
C82: REKAPITULÁCIA ROZPOČTU
C84: Stavba:
E85: =E7 -> DOBUDOVANIE ZÁKLADNEJ TECHNICKEJ INFRAŠTRUKTÚRY V OBCI ŠARIŠSKÉ JASTRABIE
C86: Objekt:
E87: 1 - SO 01 - Výstavba chodníka a rekonštrukcia miestnych komunikácii
C88: Časť:
E89: =E11 -> 02 - Chodník
C91: Miesto: | F91: =F14 -> ŠARIŠSKÉ JASTRABIE | I91: Dátum: | J91: =IF(J14="","",J14)
C93: Objednávateľ: | F93: =E17 -> OBEC ŠARIŠSKÉ JASTRABIE | I93: Projektant: | J93: =E23 -> 0
C94: Zhotoviteľ: | F94: =IF(E20="","",E20) -> Vyplň údaj | I94: Spracovateľ: | J94: =E26
C96: Kód dielu - Popis | J96: Cena celkom [EUR]
C98: Náklady z rozpočtu | J98: =J126 -> 0 | AU98: -1
D99: HSV - Práce a dodávky HSV | J99: =J127 -> 0
D100: 1 - Zemné práce | J100: =J128 -> 0
D101: 2 - Zakladanie | J101: =J140 -> 0
D102: 5 - Komunikácie | J102: =J142 -> 0
D103: 9 - Ostatné konštrukcie a práce-búranie | J103: =J149 -> 0
D104: 99 - Presun hmôt HSV | J104: =J156 -> 0
C111: ROZPOČET
C113: Stavba:
E114: =E7 -> DOBUDOVANIE ZÁKLADNEJ TECHNICKEJ INFRAŠTRUKTÚRY V OBCI ŠARIŠSKÉ JASTRABIE
C115: Objekt:
E116: 1 - SO 01 - Výstavba chodníka a rekonštrukcia miestnych komunikácii
C117: Časť:
E118: =E11 -> 02 - Chodník
C120: Miesto: | F120: =F14 -> ŠARIŠSKÉ JASTRABIE | I120: Dátum: | J120: =IF(J14="","",J14)
C122: Objednávateľ: | F122: =E17 -> OBEC ŠARIŠSKÉ JASTRABIE | I122: Projektant: | J122: =E23 -> 0
C123: Zhotoviteľ: | F123: =IF(E20="","",E20) -> Vyplň údaj | I123: Spracovateľ: | J123: =E26
C125: PČ | D125: Typ | E125: Kód | F125: Popis | G125: MJ | H125: Množstvo | I125: J.cena [EUR] | J125: Cena celkom [EUR] | K125: Cenová sústava | N125: DPH | O125: J. Nh [h] | P125: Nh celkom [h] | Q125: J. hmotnosť [t] | R125: Hmotnosť celkom [t] | S125: J. suť [t] | T125: Suť Celkom [t]
C126: Náklady z rozpočtu | J126: =BK126 -> 0 | P126: =P127 -> 0 | R126: =R127 -> 301.54971 | T126: =T127 -> 0 | AT126: D | AU126: -1 | BK126: =BK127 -> 0
D127: D | E127: HSV | F127: Práce a dodávky HSV | J127: =BK127 -> 0 | P127: =P128+P140+P142+P149+P156 -> 0 | R127: =R128+R140+R142+R149+R156 -> 301.54971 | T127: =T128+T140+T142+T149+T156 -> 0 | AR127: 1 | AT127: D | AU127: 0 | AY127: ROZPOCET | BK127: =BK128+BK140+BK142+BK149+BK156 -> 0
D128: D | E128: 1 | F128: Zemné práce | J128: =BK128 -> 0 | P128: =SUM(P129:P139) -> 0 | R128: =SUM(R129:R139) -> 0.004635 | T128: =SUM(T129:T139) -> 0 | AR128: 1 | AT128: D | AU128: 1 | AY128: ROZPOCET | BK128: =SUM(BK129:BK139) -> 0
C129: 1 | D129: K | E129: 121101111 | F129: Odstránenie ornice s vodor. premiestn. na hromady, so zložením na vzdialenosť do 100 m a do 100m3 | G129: m3 | H129: 72 | J129: =ROUND(I129*H129,2) -> 0 | N129: znížená | P129: =O129*H129 -> 0 | Q129: 0 | R129: =Q129*H129 -> 0 | S129: 0 | T129: =S129*H129 -> 0 | AR129: 4 | AT129: K | AU129: 2 | AY129: ROZPOCET | BE129: =IF(N129="základná",J129,0) -> 0 | BF129: =IF(N129="znížená",J129,0) -> 0 | BG129: =IF(N129="zákl. prenesená",J129,0) -> 0 | BH129: =IF(N129="zníž. prenesená",J129,0) -> 0 | BI129: =IF(N129="nulová",J129,0) -> 0 | BJ129: 2 | BK129: =ROUND(I129*H129,2) -> 0 | BL129: 4 | BM129: 2004710633
C130: 2 | D130: K | E130: 122201101 | F130: Odkopávka a prekopávka nezapažená v hornine 3, do 100 m3 | G130: m3 | H130: 70 | J130: =ROUND(I130*H130,2) -> 0 | N130: znížená | P130: =O130*H130 -> 0 | Q130: 0 | R130: =Q130*H130 -> 0 | S130: 0 | T130: =S130*H130 -> 0 | AR130: 4 | AT130: K | AU130: 2 | AY130: ROZPOCET | BE130: =IF(N130="základná",J130,0) -> 0 | BF130: =IF(N130="znížená",J130,0) -> 0 | BG130: =IF(N130="zákl. prenesená",J130,0) -> 0 | BH130: =IF(N130="zníž. prenesená",J130,0) -> 0 | BI130: =IF(N130="nulová",J130,0) -> 0 | BJ130: 2 | BK130: =ROUND(I130*H130,2) -> 0 | BL130: 4 | BM130: 1150634141
C131: 3 | D131: K | E131: 122201109 | F131: Odkopávky a prekopávky nezapažené. Príplatok k cenám za lepivosť horniny 3 | G131: m3 | H131: 21 | J131: =ROUND(I131*H131,2) -> 0 | N131: znížená | P131: =O131*H131 -> 0 | Q131: 0 | R131: =Q131*H131 -> 0 | S131: 0 | T131: =S131*H131 -> 0 | AR131: 4 | AT131: K | AU131: 2 | AY131: ROZPOCET | BE131: =IF(N131="základná",J131,0) -> 0 | BF131: =IF(N131="znížená",J131,0) -> 0 | BG131: =IF(N131="zákl. prenesená",J131,0) -> 0 | BH131: =IF(N131="zníž. prenesená",J131,0) -> 0 | BI131: =IF(N131="nulová",J131,0) -> 0 | BJ131: 2 | BK131: =ROUND(I131*H131,2) -> 0 | BL131: 4 | BM131: 2139746367
C132: 4 | D132: K | E132: 162501102 | F132: Vodorovné premiestnenie výkopku po spevnenej ceste z horniny tr.1-4, do 100 m3 na vzdialenosť do 3000 m | G132: m3 | H132: 77 | J132: =ROUND(I132*H132,2) -> 0 | N132: znížená | P132: =O132*H132 -> 0 | Q132: 0 | R132: =Q132*H132 -> 0 | S132: 0 | T132: =S132*H132 -> 0 | AR132: 4 | AT132: K | AU132: 2 | AY132: ROZPOCET | BE132: =IF(N132="základná",J132,0) -> 0 | BF132: =IF(N132="znížená",J132,0) -> 0 | BG132: =IF(N132="zákl. prenesená",J132,0) -> 0 | BH132: =IF(N132="zníž. prenesená",J132,0) -> 0 | BI132: =IF(N132="nulová",J132,0) -> 0 | BJ132: 2 | BK132: =ROUND(I132*H132,2) -> 0 | BL132: 4 | BM132: 1323968694
C133: 5 | D133: K | E133: 167101101 | F133: Nakladanie neuľahnutého výkopku z hornín tr.1-4 do 100 m3 | G133: m3 | H133: 57 | J133: =ROUND(I133*H133,2) -> 0 | N133: znížená | P133: =O133*H133 -> 0 | Q133: 0 | R133: =Q133*H133 -> 0 | S133: 0 | T133: =S133*H133 -> 0 | AR133: 4 | AT133: K | AU133: 2 | AY133: ROZPOCET | BE133: =IF(N133="základná",J133,0) -> 0 | BF133: =IF(N133="znížená",J133,0) -> 0 | BG133: =IF(N133="zákl. prenesená",J133,0) -> 0 | BH133: =IF(N133="zníž. prenesená",J133,0) -> 0 | BI133: =IF(N133="nulová",J133,0) -> 0 | BJ133: 2 | BK133: =ROUND(I133*H133,2) -> 0 | BL133: 4 | BM133: 2088490189
C134: 6 | D134: K | E134: 171101131 | F134: Uloženie sypaniny do násypu nesúdržných a súdržných hornín striedavo ukladaných | G134: m3 | H134: 50 | J134: =ROUND(I134*H134,2) -> 0 | N134: znížená | P134: =O134*H134 -> 0 | Q134: 0 | R134: =Q134*H134 -> 0 | S134: 0 | T134: =S134*H134 -> 0 | AR134: 4 | AT134: K | AU134: 2 | AY134: ROZPOCET | BE134: =IF(N134="základná",J134,0) -> 0 | BF134: =IF(N134="znížená",J134,0) -> 0 | BG134: =IF(N134="zákl. prenesená",J134,0) -> 0 | BH134: =IF(N134="zníž. prenesená",J134,0) -> 0 | BI134: =IF(N134="nulová",J134,0) -> 0 | BJ134: 2 | BK134: =ROUND(I134*H134,2) -> 0 | BL134: 4 | BM134: -1911742520
C135: 7 | D135: K | E135: 171201201 | F135: Uloženie sypaniny na skládky do 100 m3 | G135: m3 | H135: 77 | J135: =ROUND(I135*H135,2) -> 0 | N135: znížená | P135: =O135*H135 -> 0 | Q135: 0 | R135: =Q135*H135 -> 0 | S135: 0 | T135: =S135*H135 -> 0 | AR135: 4 | AT135: K | AU135: 2 | AY135: ROZPOCET | BE135: =IF(N135="základná",J135,0) -> 0 | BF135: =IF(N135="znížená",J135,0) -> 0 | BG135: =IF(N135="zákl. prenesená",J135,0) -> 0 | BH135: =IF(N135="zníž. prenesená",J135,0) -> 0 | BI135: =IF(N135="nulová",J135,0) -> 0 | BJ135: 2 | BK135: =ROUND(I135*H135,2) -> 0 | BL135: 4 | BM135: -1263941984
C136: 8 | D136: K | E136: 180401212 | F136: Založenie trávnika lúčneho výsevom na svahu nad 1:5 do 1:2 | G136: m2 | H136: 150 | J136: =ROUND(I136*H136,2) -> 0 | N136: znížená | P136: =O136*H136 -> 0 | Q136: 0 | R136: =Q136*H136 -> 0 | S136: 0 | T136: =S136*H136 -> 0 | AR136: 4 | AT136: K | AU136: 2 | AY136: ROZPOCET | BE136: =IF(N136="základná",J136,0) -> 0 | BF136: =IF(N136="znížená",J136,0) -> 0 | BG136: =IF(N136="zákl. prenesená",J136,0) -> 0 | BH136: =IF(N136="zníž. prenesená",J136,0) -> 0 | BI136: =IF(N136="nulová",J136,0) -> 0 | BJ136: 2 | BK136: =ROUND(I136*H136,2) -> 0 | BL136: 4 | BM136: -1446324887
C137: 9 | D137: M | E137: 005720001300 | F137: Osivá tráv - trávové semeno | G137: kg | H137: 4.635 | J137: =ROUND(I137*H137,2) -> 0 | N137: znížená | P137: =O137*H137 -> 0 | Q137: 0.001 | R137: =Q137*H137 -> 0.004635 | S137: 0 | T137: =S137*H137 -> 0 | AR137: 8 | AT137: M | AU137: 2 | AY137: ROZPOCET | BE137: =IF(N137="základná",J137,0) -> 0 | BF137: =IF(N137="znížená",J137,0) -> 0 | BG137: =IF(N137="zákl. prenesená",J137,0) -> 0 | BH137: =IF(N137="zníž. prenesená",J137,0) -> 0 | BI137: =IF(N137="nulová",J137,0) -> 0 | BJ137: 2 | BK137: =ROUND(I137*H137,2) -> 0 | BL137: 4 | BM137: -163473902
C138: 10 | D138: K | E138: 181201102 | F138: Úprava pláne v násypoch v hornine 1-4 so zhutnením | G138: m2 | H138: 378.525 | J138: =ROUND(I138*H138,2) -> 0 | N138: znížená | P138: =O138*H138 -> 0 | Q138: 0 | R138: =Q138*H138 -> 0 | S138: 0 | T138: =S138*H138 -> 0 | AR138: 4 | AT138: K | AU138: 2 | AY138: ROZPOCET | BE138: =IF(N138="základná",J138,0) -> 0 | BF138: =IF(N138="znížená",J138,0) -> 0 | BG138: =IF(N138="zákl. prenesená",J138,0) -> 0 | BH138: =IF(N138="zníž. prenesená",J138,0) -> 0 | BI138: =IF(N138="nulová",J138,0) -> 0 | BJ138: 2 | BK138: =ROUND(I138*H138,2) -> 0 | BL138: 4 | BM138: -1926572633
C139: 11 | D139: K | E139: 182301121 | F139: Rozprestretie ornice na svahu so sklonom nad 1:5, plocha do 500 m2, hr.do 100 mm | G139: m2 | H139: 150 | J139: =ROUND(I139*H139,2) -> 0 | N139: znížená | P139: =O139*H139 -> 0 | Q139: 0 | R139: =Q139*H139 -> 0 | S139: 0 | T139: =S139*H139 -> 0 | AR139: 4 | AT139: K | AU139: 2 | AY139: ROZPOCET | BE139: =IF(N139="základná",J139,0) -> 0 | BF139: =IF(N139="znížená",J139,0) -> 0 | BG139: =IF(N139="zákl. prenesená",J139,0) -> 0 | BH139: =IF(N139="zníž. prenesená",J139,0) -> 0 | BI139: =IF(N139="nulová",J139,0) -> 0 | BJ139: 2 | BK139: =ROUND(I139*H139,2) -> 0 | BL139: 4 | BM139: -681283771
D140: D | E140: 2 | F140: Zakladanie | J140: =BK140 -> 0 | P140: =P141 -> 0 | R140: =R141 -> 0.1623996 | T140: =T141 -> 0 | AR140: 1 | AT140: D | AU140: 1 | AY140: ROZPOCET | BK140: =BK141 -> 0
C141: 12 | D141: K | E141: 273362021 | F141: Výstuž základových dosiek zo zvár. sietí KARI | G141: t | H141: 0.135 | J141: =ROUND(I141*H141,2) -> 0 | N141: znížená | P141: =O141*H141 -> 0 | Q141: 1.20296 | R141: =Q141*H141 -> 0.1623996 | S141: 0 | T141: =S141*H141 -> 0 | AR141: 4 | AT141: K | AU141: 2 | AY141: ROZPOCET | BE141: =IF(N141="základná",J141,0) -> 0 | BF141: =IF(N141="znížená",J141,0) -> 0 | BG141: =IF(N141="zákl. prenesená",J141,0) -> 0 | BH141: =IF(N141="zníž. prenesená",J141,0) -> 0 | BI141: =IF(N141="nulová",J141,0) -> 0 | BJ141: 2 | BK141: =ROUND(I141*H141,2) -> 0 | BL141: 4 | BM141: -233609232
D142: D | E142: 5 | F142: Komunikácie | J142: =BK142 -> 0 | P142: =SUM(P143:P148) -> 0 | R142: =SUM(R143:R148) -> 205.03168 | T142: =SUM(T143:T148) -> 0 | AR142: 1 | AT142: D | AU142: 1 | AY142: ROZPOCET | BK142: =SUM(BK143:BK148) -> 0
C143: 13 | D143: K | E143: 564851111 | F143: Podklad zo štrkodrviny s rozprestretím a zhutnením, po zhutnení hr. 150 mm | G143: m2 | H143: 360.5 | J143: =ROUND(I143*H143,2) -> 0 | N143: znížená | P143: =O143*H143 -> 0 | Q143: 0.27994 | R143: =Q143*H143 -> 100.91837 | S143: 0 | T143: =S143*H143 -> 0 | AR143: 4 | AT143: K | AU143: 2 | AY143: ROZPOCET | BE143: =IF(N143="základná",J143,0) -> 0 | BF143: =IF(N143="znížená",J143,0) -> 0 | BG143: =IF(N143="zákl. prenesená",J143,0) -> 0 | BH143: =IF(N143="zníž. prenesená",J143,0) -> 0 | BI143: =IF(N143="nulová",J143,0) -> 0 | BJ143: 2 | BK143: =ROUND(I143*H143,2) -> 0 | BL143: 4 | BM143: 565072019
C144: 14 | D144: K | E144: 567114211 | F144: Podklad z podkladového betónu PB II tr. C 16/20 hr. 100 mm | G144: m2 | H144: 18 | J144: =ROUND(I144*H144,2) -> 0 | N144: znížená | P144: =O144*H144 -> 0 | Q144: 0.22377 | R144: =Q144*H144 -> 4.02786 | S144: 0 | T144: =S144*H144 -> 0 | AR144: 4 | AT144: K | AU144: 2 | AY144: ROZPOCET | BE144: =IF(N144="základná",J144,0) -> 0 | BF144: =IF(N144="znížená",J144,0) -> 0 | BG144: =IF(N144="zákl. prenesená",J144,0) -> 0 | BH144: =IF(N144="zníž. prenesená",J144,0) -> 0 | BI144: =IF(N144="nulová",J144,0) -> 0 | BJ144: 2 | BK144: =ROUND(I144*H144,2) -> 0 | BL144: 4 | BM144: 1996118364
C145: 15 | D145: K | E145: 596911164 | F145: Kladenie betónovej zámkovej dlažby komunikácií pre peších hr. 80 mm pre peších nad 300 m2 so zriadením lôžka z kameniva hr. 30 mm | G145: m2 | H145: 351 | J145: =ROUND(I145*H145,2) -> 0 | N145: znížená | P145: =O145*H145 -> 0 | Q145: 0.0925 | R145: =Q145*H145 -> 32.4675 | S145: 0 | T145: =S145*H145 -> 0 | AR145: 4 | AT145: K | AU145: 2 | AY145: ROZPOCET | BE145: =IF(N145="základná",J145,0) -> 0 | BF145: =IF(N145="znížená",J145,0) -> 0 | BG145: =IF(N145="zákl. prenesená",J145,0) -> 0 | BH145: =IF(N145="zníž. prenesená",J145,0) -> 0 | BI145: =IF(N145="nulová",J145,0) -> 0 | BJ145: 2 | BK145: =ROUND(I145*H145,2) -> 0 | BL145: 4 | BM145: 495685428
C146: 16 | D146: M | E146: 592460011700 | F146: Dlažba zámková betónová, hr.80 mm | G146: m2 | H146: 354.51 | J146: =ROUND(I146*H146,2) -> 0 | N146: znížená | P146: =O146*H146 -> 0 | Q146: 0.184 | R146: =Q146*H146 -> 65.22984 | S146: 0 | T146: =S146*H146 -> 0 | AR146: 8 | AT146: M | AU146: 2 | AY146: ROZPOCET | BE146: =IF(N146="základná",J146,0) -> 0 | BF146: =IF(N146="znížená",J146,0) -> 0 | BG146: =IF(N146="zákl. prenesená",J146,0) -> 0 | BH146: =IF(N146="zníž. prenesená",J146,0) -> 0 | BI146: =IF(N146="nulová",J146,0) -> 0 | BJ146: 2 | BK146: =ROUND(I146*H146,2) -> 0 | BL146: 4 | BM146: -1939557330
C147: 17 | D147: K | E147: 596911331 | F147: Kladenie dlažby pre nevidiacich hr.60 mm do lôžka z kameniva ťaženého | G147: m2 | H147: 9.5 | J147: =ROUND(I147*H147,2) -> 0 | N147: znížená | P147: =O147*H147 -> 0 | Q147: 0.112 | R147: =Q147*H147 -> 1.064 | S147: 0 | T147: =S147*H147 -> 0 | AR147: 4 | AT147: K | AU147: 2 | AY147: ROZPOCET | BE147: =IF(N147="základná",J147,0) -> 0 | BF147: =IF(N147="znížená",J147,0) -> 0 | BG147: =IF(N147="zákl. prenesená",J147,0) -> 0 | BH147: =IF(N147="zníž. prenesená",J147,0) -> 0 | BI147: =IF(N147="nulová",J147,0) -> 0 | BJ147: 2 | BK147: =ROUND(I147*H147,2) -> 0 | BL147: 4 | BM147: 352073599
C148: 18 | D148: M | E148: 592460006800 | F148: Dlažba betónová nopková, pre nevidiacich, rozmer 200x200x60 mm, červená | G148: m2 | H148: 9.595 | J148: =ROUND(I148*H148,2) -> 0 | N148: znížená | P148: =O148*H148 -> 0 | Q148: 0.138 | R148: =Q148*H148 -> 1.32411 | S148: 0 | T148: =S148*H148 -> 0 | AR148: 8 | AT148: M | AU148: 2 | AY148: ROZPOCET | BE148: =IF(N148="základná",J148,0) -> 0 | BF148: =IF(N148="znížená",J148,0) -> 0 | BG148: =IF(N148="zákl. prenesená",J148,0) -> 0 | BH148: =IF(N148="zníž. prenesená",J148,0) -> 0 | BI148: =IF(N148="nulová",J148,0) -> 0 | BJ148: 2 | BK148: =ROUND(I148*H148,2) -> 0 | BL148: 4 | BM148: 925999150
D149: D | E149: 9 | F149: Ostatné konštrukcie a práce-búranie | J149: =BK149 -> 0 | P149: =SUM(P150:P155) -> 0 | R149: =SUM(R150:R155) -> 96.351 | T149: =SUM(T150:T155) -> 0 | AR149: 1 | AT149: D | AU149: 1 | AY149: ROZPOCET | BK149: =SUM(BK150:BK155) -> 0
C150: 19 | D150: K | E150: 919723210 | F150: Pružná asfaltová zalievka | G150: m | H150: 95 | J150: =ROUND(I150*H150,2) -> 0 | N150: znížená | P150: =O150*H150 -> 0 | Q150: 2e-05 | R150: =Q150*H150 -> 0.0019 | S150: 0 | T150: =S150*H150 -> 0 | AR150: 4 | AT150: K | AU150: 2 | AY150: ROZPOCET | BE150: =IF(N150="základná",J150,0) -> 0 | BF150: =IF(N150="znížená",J150,0) -> 0 | BG150: =IF(N150="zákl. prenesená",J150,0) -> 0 | BH150: =IF(N150="zníž. prenesená",J150,0) -> 0 | BI150: =IF(N150="nulová",J150,0) -> 0 | BJ150: 2 | BK150: =ROUND(I150*H150,2) -> 0 | BL150: 4 | BM150: -1706290830
C151: 20 | D151: K | E151: 919735112 | F151: Rezanie existujúceho asfaltového krytu alebo podkladu hĺbky nad 50 do 100 mm | G151: m | H151: 95 | J151: =ROUND(I151*H151,2) -> 0 | N151: znížená | P151: =O151*H151 -> 0 | Q151: 0 | R151: =Q151*H151 -> 0 | S151: 0 | T151: =S151*H151 -> 0 | AR151: 4 | AT151: K | AU151: 2 | AY151: ROZPOCET | BE151: =IF(N151="základná",J151,0) -> 0 | BF151: =IF(N151="znížená",J151,0) -> 0 | BG151: =IF(N151="zákl. prenesená",J151,0) -> 0 | BH151: =IF(N151="zníž. prenesená",J151,0) -> 0 | BI151: =IF(N151="nulová",J151,0) -> 0 | BJ151: 2 | BK151: =ROUND(I151*H151,2) -> 0 | BL151: 4 | BM151: -1752521828
C152: 21 | D152: K | E152: 916362112 | F152: Osadenie cestného obrubníka betónového stojatého do lôžka z betónu prostého tr. C 16/20 s bočnou oporou | G152: m | H152: 255 | J152: =ROUND(I152*H152,2) -> 0 | N152: znížená | P152: =O152*H152 -> 0 | Q152: 0.15113 | R152: =Q152*H152 -> 38.53815 | S152: 0 | T152: =S152*H152 -> 0 | AR152: 4 | AT152: K | AU152: 2 | AY152: ROZPOCET | BE152: =IF(N152="základná",J152,0) -> 0 | BF152: =IF(N152="znížená",J152,0) -> 0 | BG152: =IF(N152="zákl. prenesená",J152,0) -> 0 | BH152: =IF(N152="zníž. prenesená",J152,0) -> 0 | BI152: =IF(N152="nulová",J152,0) -> 0 | BJ152: 2 | BK152: =ROUND(I152*H152,2) -> 0 | BL152: 4 | BM152: -188433051
C153: 22 | D153: M | E153: 592170001000 | F153: Obrubník cestný, lxšxv 1000x150x260 mm | G153: ks | H153: 257.55 | J153: =ROUND(I153*H153,2) -> 0 | N153: znížená | P153: =O153*H153 -> 0 | Q153: 0.085 | R153: =Q153*H153 -> 21.89175 | S153: 0 | T153: =S153*H153 -> 0 | AR153: 8 | AT153: M | AU153: 2 | AY153: ROZPOCET | BE153: =IF(N153="základná",J153,0) -> 0 | BF153: =IF(N153="znížená",J153,0) -> 0 | BG153: =IF(N153="zákl. prenesená",J153,0) -> 0 | BH153: =IF(N153="zníž. prenesená",J153,0) -> 0 | BI153: =IF(N153="nulová",J153,0) -> 0 | BJ153: 2 | BK153: =ROUND(I153*H153,2) -> 0 | BL153: 4 | BM153: 734158977
C154: 23 | D154: K | E154: 916561112 | F154: Osadenie záhonového alebo parkového obrubníka betón., do lôžka z bet. pros. tr. C 16/20 s bočnou oporou | G154: m | H154: 295 | J154: =ROUND(I154*H154,2) -> 0 | N154: znížená | P154: =O154*H154 -> 0 | Q154: 0.09853 | R154: =Q154*H154 -> 29.06635 | S154: 0 | T154: =S154*H154 -> 0 | AR154: 4 | AT154: K | AU154: 2 | AY154: ROZPOCET | BE154: =IF(N154="základná",J154,0) -> 0 | BF154: =IF(N154="znížená",J154,0) -> 0 | BG154: =IF(N154="zákl. prenesená",J154,0) -> 0 | BH154: =IF(N154="zníž. prenesená",J154,0) -> 0 | BI154: =IF(N154="nulová",J154,0) -> 0 | BJ154: 2 | BK154: =ROUND(I154*H154,2) -> 0 | BL154: 4 | BM154: -189425078
C155: 24 | D155: M | E155: 592170001800 | F155: Obrubník parkový, lxšxv 1000x50x200 mm, sivá | G155: ks | H155: 297.95 | J155: =ROUND(I155*H155,2) -> 0 | N155: znížená | P155: =O155*H155 -> 0 | Q155: 0.023 | R155: =Q155*H155 -> 6.85285 | S155: 0 | T155: =S155*H155 -> 0 | AR155: 8 | AT155: M | AU155: 2 | AY155: ROZPOCET | BE155: =IF(N155="základná",J155,0) -> 0 | BF155: =IF(N155="znížená",J155,0) -> 0 | BG155: =IF(N155="zákl. prenesená",J155,0) -> 0 | BH155: =IF(N155="zníž. prenesená",J155,0) -> 0 | BI155: =IF(N155="nulová",J155,0) -> 0 | BJ155: 2 | BK155: =ROUND(I155*H155,2) -> 0 | BL155: 4 | BM155: -539668262
D156: D | E156: 99 | F156: Presun hmôt HSV | J156: =BK156 -> 0 | P156: =P157 -> 0 | R156: =R157 -> 0 | T156: =T157 -> 0 | AR156: 1 | AT156: D | AU156: 1 | AY156: ROZPOCET | BK156: =BK157 -> 0
C157: 25 | D157: K | E157: 998223011 | F157: Presun hmôt pre pozemné komunikácie s krytom dláždeným (822 2.3, 822 5.3) akejkoľvek dĺžky objektu | G157: t | H157: 301.55 | J157: =ROUND(I157*H157,2) -> 0 | N157: znížená | P157: =O157*H157 -> 0 | Q157: 0 | R157: =Q157*H157 -> 0 | S157: 0 | T157: =S157*H157 -> 0 | AR157: 4 | AT157: K | AU157: 2 | AY157: ROZPOCET | BE157: =IF(N157="základná",J157,0) -> 0 | BF157: =IF(N157="znížená",J157,0) -> 0 | BG157: =IF(N157="zákl. prenesená",J157,0) -> 0 | BH157: =IF(N157="zníž. prenesená",J157,0) -> 0 | BI157: =IF(N157="nulová",J157,0) -> 0 | BJ157: 2 | BK157: =ROUND(I157*H157,2) -> 0 | BL157: 4 | BM157: 1996253127

Sheet 2 - SO 02 - Osvetlenie ch...
AT2: {db0c9c92-c372-42f6-ae01-ceb737a2aa6a}
AT3: 0
D4: KRYCÍ LIST ROZPOČTU | M4: v --- nižšie sa nachádzajú doplnkové a pomocné údaje k zostavám --- v | AT4: False
D6: Stavba:
E7: ='Rekapitulácia stavby'!K6 -> DOBUDOVANIE ZÁKLADNEJ TECHNICKEJ INFRAŠTRUKTÚRY V OBCI ŠARIŠSKÉ JASTRABIE
D8: Objekt:
E9: 2 - SO 02 - Osvetlenie chodníka
D11: JKSO: | I11: KS:
D12: Miesto: | F12: ŠARIŠSKÉ JASTRABIE | I12: Dátum:
D14: Objednávateľ: | I14: IČO:
E15: OBEC ŠARIŠSKÉ JASTRABIE | I15: IČ DPH:
D17: Zhotoviteľ: | I17: IČO: | J17: ='Rekapitulácia stavby'!AN13 -> Vyplň údaj
E18: ='Rekapitulácia stavby'!E14 -> Vyplň údaj | I18: IČ DPH: | J18: ='Rekapitulácia stavby'!AN14 -> Vyplň údaj
D20: Projektant: | I20: IČO:
I21: IČ DPH:
D23: Spracovateľ: | I23: IČO:
I24: IČ DPH:
D26: Poznámka:
D30: Cena bez DPH | J30: =ROUND(J122, 2) -> 0
F32: Základ dane | I32: Sadzba dane | J32: Výška dane
D33: DPH | E33: základná | F33: =ROUND((SUM(BE122:BE205)), 2) -> 0 | I33: 0.2 | J33: =ROUND(((SUM(BE122:BE205))*I33), 2) -> 0
E34: znížená | F34: =ROUND((SUM(BF122:BF205)), 2) -> 0 | I34: 0.2 | J34: =ROUND(((SUM(BF122:BF205))*I34), 2) -> 0
E35: zákl. prenesená | F35: =ROUND((SUM(BG122:BG205)), 2) -> 0 | I35: 0.2 | J35: =0 -> 0
E36: zníž. prenesená | F36: =ROUND((SUM(BH122:BH205)), 2) -> 0 | I36: 0.2 | J36: =0 -> 0
E37: nulová | F37: =ROUND((SUM(BI122:BI205)), 2) -> 0 | I37: 0 | J37: =0 -> 0
D39: Cena s DPH | G39: v | H39: EUR | J39: =SUM(J30:J37) -> 0
D50: Projektant | G50: Spracovateľ
D61: Dátum a podpis: | F61: Pečiatka | G61: Dátum a podpis: | J61: Pečiatka
D65: Objednávateľ | G65: Zhotoviteľ
D76: Dátum a podpis: | F76: Pečiatka | G76: Dátum a podpis: | J76: Pečiatka
C82: REKAPITULÁCIA ROZPOČTU
C84: Stavba:
E85: =E7 -> DOBUDOVANIE ZÁKLADNEJ TECHNICKEJ INFRAŠTRUKTÚRY V OBCI ŠARIŠSKÉ JASTRABIE
C86: Objekt:
E87: =E9 -> 2 - SO 02 - Osvetlenie chodníka
C89: Miesto: | F89: =F12 -> ŠARIŠSKÉ JASTRABIE | I89: Dátum: | J89: =IF(J12="","",J12)
C91: Objednávateľ: | F91: =E15 -> OBEC ŠARIŠSKÉ JASTRABIE | I91: Projektant: | J91: =E21 -> 0
C92: Zhotoviteľ: | F92: =IF(E18="","",E18) -> Vyplň údaj | I92: Spracovateľ: | J92: =E24 -> 0
C94: Kód dielu - Popis | J94: Cena celkom [EUR]
C96: Náklady z rozpočtu | J96: =J122 -> 0 | AU96: -1
D97: HSV - Práce a dodávky HSV | J97: =J123 -> 0
D98: 1 - Zemné práce | J98: =J124 -> 0
D99: 2 - Zakladanie | J99: =J131 -> 0
D100: M - Práce a dodávky M | J100: =J133 -> 0
D101: 21-M - Elektromontáže | J101: =J134 -> 0
D102: 46-M - Zemné práce pri extr.mont.prácach | J102: =J190 -> 0
C109: ROZPOČET
C111: Stavba:
E112: =E7 -> DOBUDOVANIE ZÁKLADNEJ TECHNICKEJ INFRAŠTRUKTÚRY V OBCI ŠARIŠSKÉ JASTRABIE
C113: Objekt:
E114: =E9 -> 2 - SO 02 - Osvetlenie chodníka
C116: Miesto: | F116: =F12 -> ŠARIŠSKÉ JASTRABIE | I116: Dátum: | J116: =IF(J12="","",J12)
C118: Objednávateľ: | F118: =E15 -> OBEC ŠARIŠSKÉ JASTRABIE | I118: Projektant: | J118: =E21 -> 0
C119: Zhotoviteľ: | F119: =IF(E18="","",E18) -> Vyplň údaj | I119: Spracovateľ: | J119: =E24 -> 0
C121: PČ | D121: Typ | E121: Kód | F121: Popis | G121: MJ | H121: Množstvo | I121: J.cena [EUR] | J121: Cena celkom [EUR] | K121: Cenová sústava | N121: DPH | O121: J. Nh [h] | P121: Nh celkom [h] | Q121: J. hmotnosť [t] | R121: Hmotnosť celkom [t] | S121: J. suť [t] | T121: Suť Celkom [t]
C122: Náklady z rozpočtu | J122: =BK122 -> 0 | P122: =P123+P133 -> 0 | R122: =R123+R133 -> 34.996461 | T122: =T123+T133 -> 0 | AT122: D | AU122: -1 | BK122: =BK123+BK133 -> 0
D123: D | E123: HSV | F123: Práce a dodávky HSV | J123: =BK123 -> 0 | P123: =P124+P131 -> 0 | R123: =R124+R131 -> 8.4449167 | T123: =T124+T131 -> 0 | AR123: 1 | AT123: D | AU123: 0 | AY123: ROZPOCET | BK123: =BK124+BK131 -> 0
D124: D | E124: 1 | F124: Zemné práce | J124: =BK124 -> 0 | P124: =SUM(P125:P130) -> 0 | R124: =SUM(R125:R130) -> 0.0148225 | T124: =SUM(T125:T130) -> 0 | AR124: 1 | AT124: D | AU124: 1 | AY124: ROZPOCET | BK124: =SUM(BK125:BK130) -> 0
C125: 1 | D125: K | E125: 131201201 | F125: Výkop zapaženej jamy v hornine 3, do 100 m3 | G125: m3 | H125: 6.75 | J125: =ROUND(I125*H125,2) -> 0 | N125: znížená | P125: =O125*H125 -> 0 | Q125: 0 | R125: =Q125*H125 -> 0 | S125: 0 | T125: =S125*H125 -> 0 | AR125: 4 | AT125: K | AU125: 2 | AY125: ROZPOCET | BE125: =IF(N125="základná",J125,0) -> 0 | BF125: =IF(N125="znížená",J125,0) -> 0 | BG125: =IF(N125="zákl. prenesená",J125,0) -> 0 | BH125: =IF(N125="zníž. prenesená",J125,0) -> 0 | BI125: =IF(N125="nulová",J125,0) -> 0 | BJ125: 2 | BK125: =ROUND(I125*H125,2) -> 0 | BL125: 4 | BM125: 454593094
C126: 2 | D126: K | E126: 141720015 | F126: Neriadené zemné pretláčanie v hornine tr. 3-4, priemer pretláčania cez 90 do 110 mm | G126: m | H126: 20 | J126: =ROUND(I126*H126,2) -> 0 | N126: znížená | P126: =O126*H126 -> 0 | Q126: 0 | R126: =Q126*H126 -> 0 | S126: 0 | T126: =S126*H126 -> 0 | AR126: 4 | AT126: K | AU126: 2 | AY126: ROZPOCET | BE126: =IF(N126="základná",J126,0) -> 0 | BF126: =IF(N126="znížená",J126,0) -> 0 | BG126: =IF(N126="zákl. prenesená",J126,0) -> 0 | BH126: =IF(N126="zníž. prenesená",J126,0) -> 0 | BI126: =IF(N126="nulová",J126,0) -> 0 | BJ126: 2 | BK126: =ROUND(I126*H126,2) -> 0 | BL126: 4 | BM126: -1109187988
C127: 3 | D127: M | E127: 3412611008 | F127: Rúrka FXKVR 110 čierna | G127: m | H127: 20 | J127: =ROUND(I127*H127,2) -> 0 | N127: znížená | P127: =O127*H127 -> 0 | Q127: 5e-05 | R127: =Q127*H127 -> 0.001 | S127: 0 | T127: =S127*H127 -> 0 | AR127: 8 | AT127: M | AU127: 2 | AY127: ROZPOCET | BE127: =IF(N127="základná",J127,0) -> 0 | BF127: =IF(N127="znížená",J127,0) -> 0 | BG127: =IF(N127="zákl. prenesená",J127,0) -> 0 | BH127: =IF(N127="zníž. prenesená",J127,0) -> 0 | BI127: =IF(N127="nulová",J127,0) -> 0 | BJ127: 2 | BK127: =ROUND(I127*H127,2) -> 0 | BL127: 4 | BM127: 248672499
C128: 4 | D128: K | E128: 151101101 | F128: Paženie a rozopretie stien rýh pre podzemné vedenie, príložné do 2 m | G128: m2 | H128: 14.25 | J128: =ROUND(I128*H128,2) -> 0 | N128: znížená | P128: =O128*H128 -> 0 | Q128: 0.00097 | R128: =Q128*H128 -> 0.0138225 | S128: 0 | T128: =S128*H128 -> 0 | AR128: 4 | AT128: K | AU128: 2 | AY128: ROZPOCET | BE128: =IF(N128="základná",J128,0) -> 0 | BF128: =IF(N128="znížená",J128,0) -> 0 | BG128: =IF(N128="zákl. prenesená",J128,0) -> 0 | BH128: =IF(N128="zníž. prenesená",J128,0) -> 0 | BI128: =IF(N128="nulová",J128,0) -> 0 | BJ128: 2 | BK128: =ROUND(I128*H128,2) -> 0 | BL128: 4 | BM128: -1613082789
C129: 5 | D129: K | E129: 151101111 | F129: Odstránenie paženia rýh pre podzemné vedenie, príložné hĺbky do 2 m | G129: m2 | H129: 14.25 | J129: =ROUND(I129*H129,2) -> 0 | N129: znížená | P129: =O129*H129 -> 0 | Q129: 0 | R129: =Q129*H129 -> 0 | S129: 0 | T129: =S129*H129 -> 0 | AR129: 4 | AT129: K | AU129: 2 | AY129: ROZPOCET | BE129: =IF(N129="základná",J129,0) -> 0 | BF129: =IF(N129="znížená",J129,0) -> 0 | BG129: =IF(N129="zákl. prenesená",J129,0) -> 0 | BH129: =IF(N129="zníž. prenesená",J129,0) -> 0 | BI129: =IF(N129="nulová",J129,0) -> 0 | BJ129: 2 | BK129: =ROUND(I129*H129,2) -> 0 | BL129: 4 | BM129: -1978482120
C130: 6 | D130: K | E130: 174101001 | F130: Zásyp sypaninou so zhutnením jám, šachiet, rýh, zárezov alebo okolo objektov do 100 m3 | G130: m3 | H130: 6.75 | J130: =ROUND(I130*H130,2) -> 0 | N130: znížená | P130: =O130*H130 -> 0 | Q130: 0 | R130: =Q130*H130 -> 0 | S130: 0 | T130: =S130*H130 -> 0 | AR130: 4 | AT130: K | AU130: 2 | AY130: ROZPOCET | BE130: =IF(N130="základná",J130,0) -> 0 | BF130: =IF(N130="znížená",J130,0) -> 0 | BG130: =IF(N130="zákl. prenesená",J130,0) -> 0 | BH130: =IF(N130="zníž. prenesená",J130,0) -> 0 | BI130: =IF(N130="nulová",J130,0) -> 0 | BJ130: 2 | BK130: =ROUND(I130*H130,2) -> 0 | BL130: 4 | BM130: 366371508
D131: D | E131: 2 | F131: Zakladanie | J131: =BK131 -> 0 | P131: =P132 -> 0 | R131: =R132 -> 8.4300942 | T131: =T132 -> 0 | AR131: 1 | AT131: D | AU131: 1 | AY131: ROZPOCET | BK131: =BK132 -> 0
C132: 7 | D132: K | E132: 275313811 | F132: Betón základových pätiek, prostý tr.C 30/37 | G132: m3 | H132: 3.63 | J132: =ROUND(I132*H132,2) -> 0 | N132: znížená | P132: =O132*H132 -> 0 | Q132: 2.32234 | R132: =Q132*H132 -> 8.4300942 | S132: 0 | T132: =S132*H132 -> 0 | AR132: 4 | AT132: K | AU132: 2 | AY132: ROZPOCET | BE132: =IF(N132="základná",J132,0) -> 0 | BF132: =IF(N132="znížená",J132,0) -> 0 | BG132: =IF(N132="zákl. prenesená",J132,0) -> 0 | BH132: =IF(N132="zníž. prenesená",J132,0) -> 0 | BI132: =IF(N132="nulová",J132,0) -> 0 | BJ132: 2 | BK132: =ROUND(I132*H132,2) -> 0 | BL132: 4 | BM132: 1961186002
D133: D | E133: M | F133: Práce a dodávky M | J133: =BK133 -> 0 | P133: =P134+P190 -> 0 | R133: =R134+R190 -> 26.551544 | T133: =T134+T190 -> 0 | AR133: 3 | AT133: D | AU133: 0 | AY133: ROZPOCET | BK133: =BK134+BK190 -> 0
D134: D | E134: 21-M | F134: Elektromontáže | J134: =BK134 -> 0 | P134: =SUM(P135:P189) -> 0 | R134: =SUM(R135:R189) -> 1.2258792 | T134: =SUM(T135:T189) -> 0 | AR134: 3 | AT134: D | AU134: 1 | AY134: ROZPOCET | BK134: =SUM(BK135:BK189) -> 0
C135: 8 | D135: K | E135: 210010124 | F135: Rúrka ochranná z PE, novoduru, do D 80 mm, uložená voľne, vnútorná | G135: m | H135: 48 | J135: =ROUND(I135*H135,2) -> 0 | N135: znížená | P135: =O135*H135 -> 0 | Q135: 0 | R135: =Q135*H135 -> 0 | S135: 0 | T135: =S135*H135 -> 0 | AR135: 64 | AT135: K | AU135: 2 | AY135: ROZPOCET | BE135: =IF(N135="základná",J135,0) -> 0 | BF135: =IF(N135="znížená",J135,0) -> 0 | BG135: =IF(N135="zákl. prenesená",J135,0) -> 0 | BH135: =IF(N135="zníž. prenesená",J135,0) -> 0 | BI135: =IF(N135="nulová",J135,0) -> 0 | BJ135: 2 | BK135: =ROUND(I135*H135,2) -> 0 | BL135: 64 | BM135: -955619271
C136: 9 | D136: M | E136: 3412611007 | F136: Rúrka ohybná FXP63 | G136: m | H136: 52.8 | J136: =ROUND(I136*H136,2) -> 0 | N136: znížená | P136: =O136*H136 -> 0 | Q136: 5e-05 | R136: =Q136*H136 -> 0.00264 | S136: 0 | T136: =S136*H136 -> 0 | AR136: 128 | AT136: M | AU136: 2 | AY136: ROZPOCET | BE136: =IF(N136="základná",J136,0) -> 0 | BF136: =IF(N136="znížená",J136,0) -> 0 | BG136: =IF(N136="zákl. prenesená",J136,0) -> 0 | BH136: =IF(N136="zníž. prenesená",J136,0) -> 0 | BI136: =IF(N136="nulová",J136,0) -> 0 | BJ136: 2 | BK136: =ROUND(I136*H136,2) -> 0 | BL136: 128 | BM136: 1978621753
C137: 10 | D137: K | E137: 210010125 | F137: Rúrka ochranná z PE, novoduru ap., uložená voľne vnútorná do D 100 mm | G137: m | H137: 243 | J137: =ROUND(I137*H137,2) -> 0 | N137: znížená | P137: =O137*H137 -> 0 | Q137: 0 | R137: =Q137*H137 -> 0 | S137: 0 | T137: =S137*H137 -> 0 | AR137: 64 | AT137: K | AU137: 2 | AY137: ROZPOCET | BE137: =IF(N137="základná",J137,0) -> 0 | BF137: =IF(N137="znížená",J137,0) -> 0 | BG137: =IF(N137="zákl. prenesená",J137,0) -> 0 | BH137: =IF(N137="zníž. prenesená",J137,0) -> 0 | BI137: =IF(N137="nulová",J137,0) -> 0 | BJ137: 2 | BK137: =ROUND(I137*H137,2) -> 0 | BL137: 64 | BM137: 1356057023
C138: 11 | D138: M | E138: 345710006500 | F138: Rúrka ohybná HD-PR FXKVR DN 90 | G138: m | H138: 243 | J138: =ROUND(I138*H138,2) -> 0 | N138: znížená | P138: =O138*H138 -> 0 | Q138: 0.00025 | R138: =Q138*H138 -> 0.06075 | S138: 0 | T138: =S138*H138 -> 0 | AR138: 128 | AT138: M | AU138: 2 | AY138: ROZPOCET | BE138: =IF(N138="základná",J138,0) -> 0 | BF138: =IF(N138="znížená",J138,0) -> 0 | BG138: =IF(N138="zákl. prenesená",J138,0) -> 0 | BH138: =IF(N138="zníž. prenesená",J138,0) -> 0 | BI138: =IF(N138="nulová",J138,0) -> 0 | BJ138: 2 | BK138: =ROUND(I138*H138,2) -> 0 | BL138: 128 | BM138: -1295486007
C139: 12 | D139: K | E139: 2100101350 | F139: Rúrka ochranná z PE, novoduru ap., uložená pevne do D 80 mm | G139: m | H139: 7 | J139: =ROUND(I139*H139,2) -> 0 | N139: znížená | P139: =O139*H139 -> 0 | Q139: 0 | R139: =Q139*H139 -> 0 | S139: 0 | T139: =S139*H139 -> 0 | AR139: 64 | AT139: K | AU139: 2 | AY139: ROZPOCET | BE139: =IF(N139="základná",J139,0) -> 0 | BF139: =IF(N139="znížená",J139,0) -> 0 | BG139: =IF(N139="zákl. prenesená",J139,0) -> 0 | BH139: =IF(N139="zníž. prenesená",J139,0) -> 0 | BI139: =IF(N139="nulová",J139,0) -> 0 | BJ139: 2 | BK139: =ROUND(I139*H139,2) -> 0 | BL139: 64 | BM139: 1204261682
C140: 13 | D140: M | E140: 2861120200 | F140: Chranicka kab. HDPE 63x5,8 pevna hladka | G140: bm | H140: 7 | J140: =ROUND(I140*H140,2) -> 0 | N140: znížená | P140: =O140*H140 -> 0 | Q140: 0.0014 | R140: =Q140*H140 -> 0.0098 | S140: 0 | T140: =S140*H140 -> 0 | AR140: 128 | AT140: M | AU140: 2 | AY140: ROZPOCET | BE140: =IF(N140="základná",J140,0) -> 0 | BF140: =IF(N140="znížená",J140,0) -> 0 | BG140: =IF(N140="zákl. prenesená",J140,0) -> 0 | BH140: =IF(N140="zníž. prenesená",J140,0) -> 0 | BI140: =IF(N140="nulová",J140,0) -> 0 | BJ140: 2 | BK140: =ROUND(I140*H140,2) -> 0 | BL140: 128 | BM140: 791268014
C141: 14 | D141: M | E141: 3451106000 | F141: Príchytka SONAP 75-90 | G141: ks | H141: 8.167 | J141: =ROUND(I141*H141,2) -> 0 | N141: znížená | P141: =O141*H141 -> 0 | Q141: 0.00072 | R141: =Q141*H141 -> 0.00588024 | S141: 0 | T141: =S141*H141 -> 0 | AR141: 128 | AT141: M | AU141: 2 | AY141: ROZPOCET | BE141: =IF(N141="základná",J141,0) -> 0 | BF141: =IF(N141="znížená",J141,0) -> 0 | BG141: =IF(N141="zákl. prenesená",J141,0) -> 0 | BH141: =IF(N141="zníž. prenesená",J141,0) -> 0 | BI141: =IF(N141="nulová",J141,0) -> 0 | BJ141: 2 | BK141: =ROUND(I141*H141,2) -> 0 | BL141: 128 | BM141: -1932676209
C142: 15 | D142: M | E142: 3451106001 | F142: Paska upinacia 9,5mm / 2-2,5kN | G142: m | H142: 15 | J142: =ROUND(I142*H142,2) -> 0 | N142: znížená | P142: =O142*H142 -> 0 | Q142: 0 | R142: =Q142*H142 -> 0 | S142: 0 | T142: =S142*H142 -> 0 | AR142: 128 | AT142: M | AU142: 2 | AY142: ROZPOCET | BE142: =IF(N142="základná",J142,0) -> 0 | BF142: =IF(N142="znížená",J142,0) -> 0 | BG142: =IF(N142="zákl. prenesená",J142,0) -> 0 | BH142: =IF(N142="zníž. prenesená",J142,0) -> 0 | BI142: =IF(N142="nulová",J142,0) -> 0 | BJ142: 2 | BK142: =ROUND(I142*H142,2) -> 0 | BL142: 128 | BM142: 1623699288
C143: 16 | D143: K | E143: 210050841 | F143: Číslovanie stožiara farbou | G143: KUS | H143: 12 | J143: =ROUND(I143*H143,2) -> 0 | N143: znížená | P143: =O143*H143 -> 0 | Q143: 0 | R143: =Q143*H143 -> 0 | S143: 0 | T143: =S143*H143 -> 0 | AR143: 64 | AT143: K | AU143: 2 | AY143: ROZPOCET | BE143: =IF(N143="základná",J143,0) -> 0 | BF143: =IF(N143="znížená",J143,0) -> 0 | BG143: =IF(N143="zákl. prenesená",J143,0) -> 0 | BH143: =IF(N143="zníž. prenesená",J143,0) -> 0 | BI143: =IF(N143="nulová",J143,0) -> 0 | BJ143: 2 | BK143: =ROUND(I143*H143,2) -> 0 | BL143: 64 | BM143: -1787142558
C144: 17 | D144: K | E144: 210101154 | F144: Koncovka eprosinová pre celoplastové káble 1 kV do 4 x 25 mm2 (3x35 mm2) | G144: ks | H144: 24 | J144: =ROUND(I144*H144,2) -> 0 | N144: znížená | P144: =O144*H144 -> 0 | Q144: 0 | R144: =Q144*H144 -> 0 | S144: 0 | T144: =S144*H144 -> 0 | AR144: 64 | AT144: K | AU144: 2 | AY144: ROZPOCET | BE144: =IF(N144="základná",J144,0) -> 0 | BF144: =IF(N144="znížená",J144,0) -> 0 | BG144: =IF(N144="zákl. prenesená",J144,0) -> 0 | BH144: =IF(N144="zníž. prenesená",J144,0) -> 0 | BI144: =IF(N144="nulová",J144,0) -> 0 | BJ144: 2 | BK144: =ROUND(I144*H144,2) -> 0 | BL144: 64 | BM144: 417569598
C145: 18 | D145: M | E145: 3451810650 | F145: Hlava rozdel. kab. 4x 6-25 mm2 | G145: ks | H145: 24 | J145: =ROUND(I145*H145,2) -> 0 | N145: znížená | P145: =O145*H145 -> 0 | Q145: 0 | R145: =Q145*H145 -> 0 | S145: 0 | T145: =S145*H145 -> 0 | AR145: 128 | AT145: M | AU145: 2 | AY145: ROZPOCET | BE145: =IF(N145="základná",J145,0) -> 0 | BF145: =IF(N145="znížená",J145,0) -> 0 | BG145: =IF(N145="zákl. prenesená",J145,0) -> 0 | BH145: =IF(N145="zníž. prenesená",J145,0) -> 0 | BI145: =IF(N145="nulová",J145,0) -> 0 | BJ145: 2 | BK145: =ROUND(I145*H145,2) -> 0 | BL145: 128 | BM145: 1200354950
C146: 19 | D146: K | E146: 210120102 | F146: Poistkový náboj vč.montáže nožový náboj do 500 V | G146: KUS | H146: 3 | J146: =ROUND(I146*H146,2) -> 0 | N146: znížená | P146: =O146*H146 -> 0 | Q146: 0 | R146: =Q146*H146 -> 0 | S146: 0 | T146: =S146*H146 -> 0 | AR146: 64 | AT146: K | AU146: 2 | AY146: ROZPOCET | BE146: =IF(N146="základná",J146,0) -> 0 | BF146: =IF(N146="znížená",J146,0) -> 0 | BG146: =IF(N146="zákl. prenesená",J146,0) -> 0 | BH146: =IF(N146="zníž. prenesená",J146,0) -> 0 | BI146: =IF(N146="nulová",J146,0) -> 0 | BJ146: 2 | BK146: =ROUND(I146*H146,2) -> 0 | BL146: 64 | BM146: 210951400
... C186: 59 | D186: K | E186: HZS-003 | F186: Práca montéra pri zapojení do siete | G186: hod | H186: 2 | J186: =ROUND(I186*H186,2) -> 0 | N186: znížená | P186: =O186*H186 -> 0 | Q186: 0 | R186: =Q186*H186 -> 0 | S186: 0 | T186: =S186*H186 -> 0 | AR186: 512 | AT186: K | AU186: 2 | AY186: ROZPOCET | BE186: =IF(N186="základná",J186,0) -> 0 | BF186: =IF(N186="znížená",J186,0) -> 0 | BG186: =IF(N186="zákl. prenesená",J186,0) -> 0 | BH186: =IF(N186="zníž. prenesená",J186,0) -> 0 | BI186: =IF(N186="nulová",J186,0) -> 0 | BJ186: 2 | BK186: =ROUND(I186*H186,2) -> 0 | BL186: 512 | BM186: -991100173
C187: 60 | D187: K | E187: MV | F187: Murárske výpomoci | G187: % | J187: =ROUND(I187*H187,2) -> 0 | N187: znížená | P187: =O187*H187 -> 0 | Q187: 0 | R187: =Q187*H187 -> 0 | S187: 0 | T187: =S187*H187 -> 0 | AR187: 64 | AT187: K | AU187: 2 | AY187: ROZPOCET | BE187: =IF(N187="základná",J187,0) -> 0 | BF187: =IF(N187="znížená",J187,0) -> 0 | BG187: =IF(N187="zákl. prenesená",J187,0) -> 0 | BH187: =IF(N187="zníž. prenesená",J187,0) -> 0 | BI187: =IF(N187="nulová",J187,0) -> 0 | BJ187: 2 | BK187: =ROUND(I187*H187,2) -> 0 | BL187: 64 | BM187: -446159169
C188: 61 | D188: K | E188: PM | F188: Podružný materiál | G188: % | J188: =ROUND(I188*H188,2) -> 0 | N188: znížená | P188: =O188*H188 -> 0 | Q188: 0 | R188: =Q188*H188 -> 0 | S188: 0 | T188: =S188*H188 -> 0 | AR188: 128 | AT188: K | AU188: 2 | AY188: ROZPOCET | BE188: =IF(N188="základná",J188,0) -> 0 | BF188: =IF(N188="znížená",J188,0) -> 0 | BG188: =IF(N188="zákl. prenesená",J188,0) -> 0 | BH188: =IF(N188="zníž. prenesená",J188,0) -> 0 | BI188: =IF(N188="nulová",J188,0) -> 0 | BJ188: 2 | BK188: =ROUND(I188*H188,2) -> 0 | BL188: 128 | BM188: 921701468
C189: 62 | D189: K | E189: PPV | F189: Podiel pridružených výkonov | G189: % | J189: =ROUND(I189*H189,2) -> 0 | N189: znížená | P189: =O189*H189 -> 0 | Q189: 0 | R189: =Q189*H189 -> 0 | S189: 0 | T189: =S189*H189 -> 0 | AR189: 64 | AT189: K | AU189: 2 | AY189: ROZPOCET | BE189: =IF(N189="základná",J189,0) -> 0 | BF189: =IF(N189="znížená",J189,0) -> 0 | BG189: =IF(N189="zákl. prenesená",J189,0) -> 0 | BH189: =IF(N189="zníž. prenesená",J189,0) -> 0 | BI189: =IF(N189="nulová",J189,0) -> 0 | BJ189: 2 | BK189: =ROUND(I189*H189,2) -> 0 | BL189: 64 | BM189: 252469932
D190: D | E190: 46-M | F190: Zemné práce pri extr.mont.prácach | J190: =BK190 -> 0 | P190: =SUM(P191:P205) -> 0 | R190: =SUM(R191:R205) -> 25.325665 | T190: =SUM(T191:T205) -> 0 | AR190: 3 | AT190: D | AU190: 1 | AY190: ROZPOCET | BK190: =SUM(BK191:BK205) -> 0
C191: 63 | D191: K | E191: 460050612 | F191: Výkop jamy pre stožiar, bet.základ, kotvu, príp. iné zar.,(vč.čerp.vody), strojový ,v zemine tr. 3-4 | G191: m3 | H191: 4.2 | J191: =ROUND(I191*H191,2) -> 0 | N191: znížená | P191: =O191*H191 -> 0 | Q191: 0 | R191: =Q191*H191 -> 0 | S191: 0 | T191: =S191*H191 -> 0 | AR191: 64 | AT191: K | AU191: 2 | AY191: ROZPOCET | BE191: =IF(N191="základná",J191,0) -> 0 | BF191: =IF(N191="znížená",J191,0) -> 0 | BG191: =IF(N191="zákl. prenesená",J191,0) -> 0 | BH191: =IF(N191="zníž. prenesená",J191,0) -> 0 | BI191: =IF(N191="nulová",J191,0) -> 0 | BJ191: 2 | BK191: =ROUND(I191*H191,2) -> 0 | BL191: 64 | BM191: -816180039
C192: 64 | D192: K | E192: 460120061 | F192: Odvoz zeminy vrátane naloženia, rozhodenia a úpravy povrchu. | G192: m3 | H192: 29.86 | J192: =ROUND(I192*H192,2) -> 0 | N192: znížená | P192: =O192*H192 -> 0 | Q192: 0 | R192: =Q192*H192 -> 0 | S192: 0 | T192: =S192*H192 -> 0 | AR192: 64 | AT192: K | AU192: 2 | AY192: ROZPOCET | BE192: =IF(N192="základná",J192,0) -> 0 | BF192: =IF(N192="znížená",J192,0) -> 0 | BG192: =IF(N192="zákl. prenesená",J192,0) -> 0 | BH192: =IF(N192="zníž. prenesená",J192,0) -> 0 | BI192: =IF(N192="nulová",J192,0) -> 0 | BJ192: 2 | BK192: =ROUND(I192*H192,2) -> 0 | BL192: 64 | BM192: 1757070730
C193: 65 | D193: K | E193: 460200143 | F193: Hĺbenie káblovej ryhy 35 cm širokej a 60 cm hlbokej, v zemine triedy 3 | G193: m | H193: 232 | J193: =ROUND(I193*H193,2) -> 0 | N193: znížená | P193: =O193*H193 -> 0 | Q193: 0 | R193: =Q193*H193 -> 0 | S193: 0 | T193: =S193*H193 -> 0 | AR193: 64 | AT193: K | AU193: 2 | AY193: ROZPOCET | BE193: =IF(N193="základná",J193,0) -> 0 | BF193: =IF(N193="znížená",J193,0) -> 0 | BG193: =IF(N193="zákl. prenesená",J193,0) -> 0 | BH193: =IF(N193="zníž. prenesená",J193,0) -> 0 | BI193: =IF(N193="nulová",J193,0) -> 0 | BJ193: 2 | BK193: =ROUND(I193*H193,2) -> 0 | BL193: 64 | BM193: -537957754
C194: 66 | D194: K | E194: 460200304 | F194: Hĺbenie káblovej ryhy ručne 50 cm širokej a 120 cm hlbokej, v zemine triedy 4 | G194: m | H194: 11 | J194: =ROUND(I194*H194,2) -> 0 | N194: znížená | P194: =O194*H194 -> 0 | Q194: 0 | R194: =Q194*H194 -> 0 | S194: 0 | T194: =S194*H194 -> 0 | AR194: 64 | AT194: K | AU194: 2 | AY194: ROZPOCET | BE194: =IF(N194="základná",J194,0) -> 0 | BF194: =IF(N194="znížená",J194,0) -> 0 | BG194: =IF(N194="zákl. prenesená",J194,0) -> 0 | BH194: =IF(N194="zníž. prenesená",J194,0) -> 0 | BI194: =IF(N194="nulová",J194,0) -> 0 | BJ194: 2 | BK194: =ROUND(I194*H194,2) -> 0 | BL194: 64 | BM194: -1868145098
C195: 67 | D195: K | E195: 460420022 | F195: Zriadenie, rekonšt. káblového lôžka z piesku bez zakrytia, v ryhe šír. do 65 cm, hrúbky vrstvy 10 cm | G195: m | H195: 243 | J195: =ROUND(I195*H195,2) -> 0 | N195: znížená | P195: =O195*H195 -> 0 | Q195: 0 | R195: =Q195*H195 -> 0 | S195: 0 | T195: =S195*H195 -> 0 | AR195: 64 | AT195: K | AU195: 2 | AY195: ROZPOCET | BE195: =IF(N195="základná",J195,0) -> 0 | BF195: =IF(N195="znížená",J195,0) -> 0 | BG195: =IF(N195="zákl. prenesená",J195,0) -> 0 | BH195: =IF(N195="zníž. prenesená",J195,0) -> 0 | BI195: =IF(N195="nulová",J195,0) -> 0 | BJ195: 2 | BK195: =ROUND(I195*H195,2) -> 0 | BL195: 64 | BM195: 1161217285
C196: 68 | D196: M | E196: 5831214500 | F196: Drvina vápencová zmes 0 - 4 | G196: t | H196: 25.272 | J196: =ROUND(I196*H196,2) -> 0 | N196: znížená | P196: =O196*H196 -> 0 | Q196: 1 | R196: =Q196*H196 -> 25.272 | S196: 0 | T196: =S196*H196 -> 0 | AR196: 128 | AT196: M | AU196: 2 | AY196: ROZPOCET | BE196: =IF(N196="základná",J196,0) -> 0 | BF196: =IF(N196="znížená",J196,0) -> 0 | BG196: =IF(N196="zákl. prenesená",J196,0) -> 0 | BH196: =IF(N196="zníž. prenesená",J196,0) -> 0 | BI196: =IF(N196="nulová",J196,0) -> 0 | BJ196: 2 | BK196: =ROUND(I196*H196,2) -> 0 | BL196: 128 | BM196: 482506776
C197: 69 | D197: K | E197: 460490012 | F197: Rozvinutie a uloženie výstražnej fólie z PVC do ryhy, šírka 33 cm | G197: m | H197: 243 | J197: =ROUND(I197*H197,2) -> 0 | N197: znížená | P197: =O197*H197 -> 0 | Q197: 0 | R197: =Q197*H197 -> 0 | S197: 0 | T197: =S197*H197 -> 0 | AR197: 64 | AT197: K | AU197: 2 | AY197: ROZPOCET | BE197: =IF(N197="základná",J197,0) -> 0 | BF197: =IF(N197="znížená",J197,0) -> 0 | BG197: =IF(N197="zákl. prenesená",J197,0) -> 0 | BH197: =IF(N197="zníž. prenesená",J197,0) -> 0 | BI197: =IF(N197="nulová",J197,0) -> 0 | BJ197: 2 | BK197: =ROUND(I197*H197,2) -> 0 | BL197: 64 | BM197: -1048204454
C198: 70 | D198: M | E198: 2830002000 | F198: Fólia červená v m | G198: M | H198: 243 | J198: =ROUND(I198*H198,2) -> 0 | N198: znížená | P198: =O198*H198 -> 0 | Q198: 0.00021 | R198: =Q198*H198 -> 0.05103 | S198: 0 | T198: =S198*H198 -> 0 | AR198: 128 | AT198: M | AU198: 2 | AY198: ROZPOCET | BE198: =IF(N198="základná",J198,0) -> 0 | BF198: =IF(N198="znížená",J198,0) -> 0 | BG198: =IF(N198="zákl. prenesená",J198,0) -> 0 | BH198: =IF(N198="zníž. prenesená",J198,0) -> 0 | BI198: =IF(N198="nulová",J198,0) -> 0 | BJ198: 2 | BK198: =ROUND(I198*H198,2) -> 0 | BL198: 128 | BM198: 8567098
C199: 71 | D199: K | E199: 460560143 | F199: Ručný zásyp nezap. káblovej ryhy bez zhutn. zeminy, 35 cm širokej, 60 cm hlbokej v zemine tr. 3 | G199: m | H199: 232 | J199: =ROUND(I199*H199,2) -> 0 | N199: znížená | P199: =O199*H199 -> 0 | Q199: 0 | R199: =Q199*H199 -> 0 | S199: 0 | T199: =S199*H199 -> 0 | AR199: 64 | AT199: K | AU199: 2 | AY199: ROZPOCET | BE199: =IF(N199="základná",J199,0) -> 0 | BF199: =IF(N199="znížená",J199,0) -> 0 | BG199: =IF(N199="zákl. prenesená",J199,0) -> 0 | BH199: =IF(N199="zníž. prenesená",J199,0) -> 0 | BI199: =IF(N199="nulová",J199,0) -> 0 | BJ199: 2 | BK199: =ROUND(I199*H199,2) -> 0 | BL199: 64 | BM199: 1183307149
C200: 72 | D200: K | E200: 460560304 | F200: Ručný zásyp nezap. káblovej ryhy bez zhutn. zeminy, 50 cm širokej, 120 cm hlbokej v zemine tr. 4 | G200: m | H200: 11 | J200: =ROUND(I200*H200,2) -> 0 | N200: znížená | P200: =O200*H200 -> 0 | Q200: 0 | R200: =Q200*H200 -> 0 | S200: 0 | T200: =S200*H200 -> 0 | AR200: 64 | AT200: K | AU200: 2 | AY200: ROZPOCET | BE200: =IF(N200="základná",J200,0) -> 0 | BF200: =IF(N200="znížená",J200,0) -> 0 | BG200: =IF(N200="zákl. prenesená",J200,0) -> 0 | BH200: =IF(N200="zníž. prenesená",J200,0) -> 0 | BI200: =IF(N200="nulová",J200,0) -> 0 | BJ200: 2 | BK200: =ROUND(I200*H200,2) -> 0 | BL200: 64 | BM200: -1481733141
C201: 73 | D201: K | E201: 460620006 | F201: Osiatie povrchu trávnym semenom ručne, zasekanie hrablami,postrek, | G201: m2 | H201: 85.26 | J201: =ROUND(I201*H201,2) -> 0 | N201: znížená | P201: =O201*H201 -> 0 | Q201: 0 | R201: =Q201*H201 -> 0 | S201: 0 | T201: =S201*H201 -> 0 | AR201: 64 | AT201: K | AU201: 2 | AY201: ROZPOCET | BE201: =IF(N201="základná",J201,0) -> 0 | BF201: =IF(N201="znížená",J201,0) -> 0 | BG201: =IF(N201="zákl. prenesená",J201,0) -> 0 | BH201: =IF(N201="zníž. prenesená",J201,0) -> 0 | BI201: =IF(N201="nulová",J201,0) -> 0 | BJ201: 2 | BK201: =ROUND(I201*H201,2) -> 0 | BL201: 64 | BM201: 1927009775
C202: 74 | D202: M | E202: 0057211100 | F202: Trávové semeno | G202: kg | H202: 2.635 | J202: =ROUND(I202*H202,2) -> 0 | N202: znížená | P202: =O202*H202 -> 0 | Q202: 0.001 | R202: =Q202*H202 -> 0.002635 | S202: 0 | T202: =S202*H202 -> 0 | AR202: 128 | AT202: M | AU202: 2 | AY202: ROZPOCET | BE202: =IF(N202="základná",J202,0) -> 0 | BF202: =IF(N202="znížená",J202,0) -> 0 | BG202: =IF(N202="zákl. prenesená",J202,0) -> 0 | BH202: =IF(N202="zníž. prenesená",J202,0) -> 0 | BI202: =IF(N202="nulová",J202,0) -> 0 | BJ202: 2 | BK202: =ROUND(I202*H202,2) -> 0 | BL202: 128 | BM202: -213235007
... C204: 76 | D204: K | E204: 460620014 | F204: Proviz. úprava terénu v zemine tr. 4, aby nerovnosti terénu neboli väčšie ako 2 cm od vodor.hladiny | G204: m2 | H204: 5.775 | J204: =ROUND(I204*H204,2) -> 0 | N204: znížená | P204: =O204*H204 -> 0 | Q204: 0 | R204: =Q204*H204 -> 0 | S204: 0 | T204: =S204*H204 -> 0 | AR204: 64 | AT204: K | AU204: 2 | AY204: ROZPOCET | BE204: =IF(N204="základná",J204,0) -> 0 | BF204: =IF(N204="znížená",J204,0) -> 0 | BG204: =IF(N204="zákl. prenesená",J204,0) -> 0 | BH204: =IF(N204="zníž. prenesená",J204,0) -> 0 | BI204: =IF(N204="nulová",J204,0) -> 0 | BJ204: 2 | BK204: =ROUND(I204*H204,2) -> 0 | BL204: 64 | BM204: -882116249
C205: 77 | D205: K | E205: PPV | F205: Podiel pridružených výkonov | G205: % | J205: =ROUND(I205*H205,2) -> 0 | N205: znížená | P205: =O205*H205 -> 0 | Q205: 0 | R205: =Q205*H205 -> 0 | S205: 0 | T205: =S205*H205 -> 0 | AR205: 64 | AT205: K | AU205: 2 | AY205: ROZPOCET | BE205: =IF(N205="základná",J205,0) -> 0 | BF205: =IF(N205="znížená",J205,0) -> 0 | BG205: =IF(N205="zákl. prenesená",J205,0) -> 0 | BH205: =IF(N205="zníž. prenesená",J205,0) -> 0 | BI205: =IF(N205="nulová",J205,0) -> 0 | BJ205: 2 | BK205: =ROUND(I205*H205,2) -> 0 | BL205: 64 | BM205: 623366099
